Workbook
Name condicion: #REF!
Name edad: #REF!
Name etnias: #REF!
Name frecuencia: #REF!
Name genero: #REF!
Name INDICADOR: #REF!
Name INDICADOR: #REF!
Name INDICADOR: #REF!
Name INDICADOR: #REF!
Name localidad: #REF!
Name metas: #REF!
Name objetivoest: #REF!
Name objetivos: #REF!
Name objetivos: #REF!
Name objetivos: #REF!
Name objetivos: #REF!
Name pmr: #REF!
Name responsable: #REF!
Name SUBSECRETARIA: #REF!
Name SUBSECRETARIA: #REF!
Name SUBSECRETARIA: #REF!
Name SUBSECRETARIA: #REF!
Name subsecretarias: #REF!
Name tactividad: #REF!
Name tcalculo: #REF!
Name tindicador: #REF!
Name tipometa: #REF!
Name tmeta: [1]Hoja3!$A$5:$A$7
Name tmeta: [1]Hoja3!$A$5:$A$7
Name tmeta: [1]Hoja3!$A$5:$A$7
Name tmeta: #REF!

Sheet Instructivo
A1: PROGRAMACIÓN, ACTUALIZACIÓN Y SEGUIMIENTO PLAN DE ACCIÓN DE PROYECTOS DE INVERSIÓN
A2: ENCABEZADO DE TODAS LAS HOJAS
A3: ITEM | B3: DESCRIPCIÓN
A4: NOMBRE DEL PROYECTO | B4: En este campo se diligencia el nombre del proyecto de inversión como se encuentra en la ficha EBI-D y en la ficha MGA de formulación.
A5: PERIODO REPORTADO | B5: En este campo se marca con "X" el mes al cual corresponde el reporte de seguimiento
A6: TIPO DE REPORTE | B6: En este campo se selecciona según aplique. Programación: Corresponde al proceso de formulación del plan de acción de proyectos de inversión, el cual se realiza una vez por vigencia. Actualización: Corresponde al proceso mediante el cual la gerencia del proyecto modifica o ajusta la información contenida en el plan de acción de proyectos de inversión Seguimiento: Corresponde al proceso de reporte de avance de las actividades, tareas, meta PDD, producto MGA, territorialización y PMR de acuerdo con la programación.
A7: HOJA ACTIVIDAD
A8: ACTIVIDAD DEL PROYECTO | B8: En este campo se diligencia el nombre de la actividad del proyecto de inversión, como se encuentra registrada tanto en la ficha MGA como en la ficha EBI-D del proyecto de inversión
A9: PRODUCTO MGA | B9: En este campo se diligencia el nombre del producto registrado en la ficha MGA, asociado a la actividad correspondiente del proyecto de inversión.
A10: INDICADOR ACTIVIDAD | B10: En este campo se diligencia el nombre del indicador que se estableció para la actividad correspondiente, debe ser coherente con lo registrado en la hoja de vida de vida de indicadores.
A11: OBJETIVO ESTRATÉGICO | B11: En este campo se diligencia el nombre del Objetivo Estratégico establecido en la estructura Plan de Desarrollo vigente, bajo la cual se encuentra articulado el proyecto de inversión
A12: PROGRAMA | B12: En este campo se diligencia el nombre del Programa de acuerdo con la la estructura Plan de Desarrollo vigente, bajo la cual se encuentra articulado el proyecto de inversión
A13: META PDD | B13: En este campo se diligencia el nombre de la meta Plan de Desarrollo vigente, al cual se encuentra articulada la actividad correspondiente del proyecto de inversión.
A14: EJECUCIÓN PRESUPUESTAL DEL PROYECTO
A15: PROGRAMACION DE COMPROMISOS | B15: Se diligencia el valor de la programación mensual de compromisos. Para este campo, los insumos son la programación del proyecto coincidente con la programación PAABS.
A16: COMPROMISOS | B16: Se diligencia el valor de los compromisos efectivamente ejecutados mensualmente. Este dato debe coincidir con las ejecuciones de CRP de los informes BOGDATA.
A17: GIROS | B17: Se diligencia el valor mensual de los giros efectivamente ejecutados. Este dato debe coincidir con las ejecuciones de CRP (autorización giros) de los informes BOGDATA.
A19: PROGRAMACIÓN DE RESERVAS | B19: En este campo se diligencia el valor de la programación mensual a ejecutar de las reservas constituidas al inicio de la vigencia.
A20: LIBERACIÓN DE RESERVAS | B20: En este campo se registra el valor de las liberaciones de las reservas realizadas en el mes que corresponda.
A21: GIROS RESERVAS | B21: En este campo se diligencia el valor efectivo de los giros de la reserva para el mes correspondiente, este dato debe coincidir con la autorización de giros del informe de Rersevas de BOGDATA.
A22: REPORTE ACTIVIDADES VIGENCIA (Ejecución vigencia)
A23: DESCRIPCIÓN DE LA ACTIVIDAD | B23: Este campo se diligencia automaticamente, y corresponde al nombre de la actividad del proyecto de inversión, como quedó formulada tanto en la ficha MGA como en la ficha EBI-D del proyecto de inversión
A24: ANUALIZACIÓN DE LA ACTIVIDAD | B24: En este campo se diligencia para cada una de las vigencias, la meta numérica de la actividad (en valores absolutos o porcentuales), cuyo valor total debe corresponder a la meta del cuatrienio de la actividad, en coherencia con la información registrada en la ficha EBI-D del proyecto de inversión.
A25: TIPO DE ANUALIZACIÓN | B25: En este campo se diligencia el tipo de anualización de la actividad en coherencia con las mediciones establecidas por la SDP: Suma: La magnitud se distribuyen entre las vigencias y al final se tienen una totalización,es decir, la meta total de la actividad. Creciente: No tienen total y puede haber 2 años consecutivos con el mismo valor. El valor del último año corresponde a la meta total de la actividad. Decreciente: No tienen total y se registran en cada vigencia una magnitud igual o inferior hasta llegar a la meta de la actividad. Constante: No tienen total y las magnitudes deberán corresponder a un valor igual para cada vigencia
A26: PONDERACIÓN ACTIVIDAD | B26: En este campo se registra el valor porcentual asignado a la actividad dentro del plan de acción del proyecto de inversión. Es necesario tener en cuenta que la sumatoria de las ponderaciones de todas las actividades del plan de acción debe ser igual al 100%
A27: Programación | B27: Corresponde a las magnitudes que se mediran para cuantificar el bien o servicio, lo que se espera alcanzar en un periodo de tiempo a través de la ejecución o desempeño de las actividades. La sumatoria de la programación mensual debe corresponder con el valor de la anualización de la vigencia correspondiente.
A28: Ejecución | B28: Se diligencia la magnitud alcanzada durante el periodo reportado, a fin de cumplir la programación realizada para la actividad
A29: Avances y Logros Mensual (2.000 caracteres) | B29: En este campo se diligencia lo relacionando a los logros y avances del mes en coherencia con lo registrado en el avance cuantitativo de la actividad. Se recomienda dejar la información que se considere estratégica y de mayor relevancia.
A30: Avances y Logros Acumulado (2.000 caracteres) | B30: En este campo se diligencia lo relacionando a los logros y avances acumulados a la fecha del reporte en coherencia con lo registrado en el avance cuantitativo de la actividad, así como con la información reportada en meses anteriores. Se recomienda dejar la información que se considere estratégica y de mayor relevancia. IMPORTANTE: Se debe diligenciar la descripción cualitativa de manera acumulada de manera ejecutiva, sin replicar toda la información mes a mes de los seguimientos.
A31: Retrasos y Alternativas de solución (1.000 caracteres) | B31: En este campo se deberá diligenciar lo relacionando a las dificultades y alternativas de solución presentadas en el periodo en el que se dan. Cuando la ejecución del proyecto se encuentra acorde a lo programado, no se diligencia este campo o se incluye que el proyecto no presenta retrasos. IMPORTANTE: Se debe diligenciar la descripción cualitativa de manera acumulada de manera ejecutiva, sin replicar toda la información mes a mes de los seguimientos.
A32: Beneficios | B32: En este campo se deberá diligenciar lo relacionando con los beneficios aportados por la ejecución de la actividad, de forma acumulada e integrada. IMPORTANTE: Se debe diligenciar la descripción cualitativa de manera acumulada de manera ejecutiva, sin replicar toda la información mes a mes de los seguimientos.
A33: DESCRIPCIÓN CUALITATIVA Y PORCENTUAL DEL AVANCE POR TAREA
A34: DESCRIPCIÓN DE LA TAREA | B34: En este campo se diligencia el nombre de la tarea definida para la gestión de cumplimiento de la actividad del proyecto de inversión. Las tareas deben ser coherentes con las actividades a las cuales están asociadas y son aquellas que las dependencias deben llevar a cabo para producir los resultados definidos en las mismas.
A35: PONDERACIÓN DE LA TAREA | B35: En este campo se registra el valor porcentual asignado a la tarea (s) asociada (s) a la actividad, es decir, la sumatoria de las ponderaciones de las tareas de un actividad, debe ser igual al peso % de dicha actividad a la cual se encuentran asociadas.
A36: Programación (Tareas) | B36: En este campo se diligencia el porcentaje que se va a realizar en el mes de la tarea, la sumatoria de las programaciones mensuales debe sumar 100%.
A37: Ejecución (Tareas) | B37: En este campo se diligencia la magnitud alcanzada durante el periodo reportado, a fin de cumplir la programación mensual para la tarea.
A38: Logros y beneficios y Retrasos y alternativas de solución (2.000 caracteres) (Tareas) | B38: En este campo se registra: - El avance de la gestión mensual señalando las alertas que puedan afectar el cumplimiento de la tarea o producto, cuando aplique. - El avance acumulado y los productos obtenidos, indicando si se presentan retrasos y señalando las alternativas de solución que se implementarán.
A39: Evidencias de ejecución | B39: En este campo se registra el link o la ruta donde se puede consultar las evidencias que soportan la ejecución de las tareas.
A40: HOJA META PDD
A41: ITEM | B41: DESCRIPCIÓN
...

Sheet ACTIVIDAD_1 
B1: SECRETARÍA DISTRITAL DE LA MUJER | M1: Código: DE-FO-5
B2: DIRECCIONAMIENTO ESTRATEGICO | M2: Versión: 14
B3: PROGRAMACIÓN, ACTUALIZACIÓN Y SEGUIMIENTO PLAN DE ACCIÓN DE PROYECTOS DE INVERSIÓN | M3: Fecha de Emisión: 28/04/2025
B4: ACTIVIDADES | M4: Página 2 de 7
A6: PROYECTO DE INVERSIÓN | B6: 8232 - Implementación de estrategias para el empoderamiento económico de las mujeres en toda su diversidad en Bogotá D.C. | L6: BPIN | M6: 2024110010318
A8: PERIODO REPORTADO | B8: Enero | D8: Febrero | F8: Marzo | H8: Abril | J8: TIPO DE REPORTE | L8: FORMULACION
B9: Mayo | D9: Junio | F9: Julio | H9: Agosto | L9: ACTUALIZACION
B10: Septiembre | C10: X | D10: Octubre | F10: Noviembre | H10: Diciembre | L10: SEGUIMIENTO | M10: X
A12: ACTIVIDAD DEL PROYECTO | B12: Desarrollar 1 estrategia para potenciar las habilidades y capacidades de las mujeres en sus diversidades que aporten a su empoderamiento y autonomía económica
A16: PRODUCTO MGA | B16: Servicio de educación informal | G16: INDICADOR ACTIVIDAD | I16: Documento actualizado de la estrategia para potenciar las habilidades y capacidades de las mujeres en sus diversidades
A18: OBJETIVO ESTRATÉGICO | B18: 3. Bogotá confía en su potencial | F18: PROGRAMA | G18: 3.20. Promoción del emprendimiento formal, equitativo e incluyente | J18: META PDD | K18: 192. Cualificar 9000 mujeres, en sus diferencias y diversidades, en herramientas para la autonomía económica.
A21: EJECUCIÓN PRESUPUESTAL DEL PROYECTO
A22: PRESUPUESTO ASIGNADO EN LA VIGENCIA ACTUAL (en pesos, sin decimales)
B23: Enero | C23: Febrero | D23: Marzo | E23: Abril | F23: Mayo | G23: Junio | H23: Julio | I23: Agosto | J23: Septiembre | K23: Octubre | L23: Noviembre | M23: Diciembre | N23: Total | O23: Porcentaje de ejecución
A24: PROGRAMACION DE COMPROMISOS | B24: 882834000 | C24: 0 | D24: 0 | G24: 13719000 | H24: 10143256 | I24: 0 | J24: 0 | K24: 3519212 | N24: =SUM(B24:M24) -> 910215468 | O24: 1
A25: COMPROMISOS | B25: 882834000 | C25: 0 | D25: -7632744 | E25: 10716806 | F25: 0 | G25: 0 | H25: 0 | I25: 12634400 | J25: 0 | N25: =SUM(B25:M25) -> 898552462 | O25: =N25/N24 -> 0.98718654
A26: GIROS | C26: 29694266 | D26: 80045926 | E26: 78132731 | F26: 76673514 | G26: 84719654 | H26: 74146053 | I26: 71359054 | J26: 74053161 | N26: =SUM(B26:M26) -> 568824359 | O26: =N26/N24 -> 0.62493374
A27: PROGRAMACIÓN RESERVAS | B27: 4371203 | C27: 7930500 | D27: 0 | E27: 0 | F27: 0 | G27: 0 | H27: 0 | I27: 0 | J27: 0 | N27: =SUM(B27:M27) -> 12301703 | O27: 1
A28: LIBERACION DE RESERVAS | D28: 0 | E28: 0 | F28: 0 | G28: 0 | H28: 0 | I28: 0 | J28: 0 | N28: =SUM(B28:M28) -> 0 | O28: =N28/N27 -> 0
A29: GIROS RESERVAS | B29: 4109001 | C29: 6553500 | D29: 0 | E29: 0 | F29: 0 | G29: 0 | H29: 0 | I29: 0 | J29: 0 | N29: =SUM(B29:M29) -> 10662501 | O29: =N29/N27 -> 0.86674999
A33: REPORTE ACTIVIDADES VIGENCIA (Ejecución vigencia)
A34: DESCRIPCION DE LA ACTIVIDAD | B34: =+B12 -> Desarrollar 1 estrategia para potenciar las habilidades y capacidades de las mujeres en sus diversidades que aporten a su empoderamiento y autonomía económica
A35: ANUALIZACIÓN DE LA ACTIVIDAD | B35: 2024 | C35: 2025 | D35: 2026 | E35: 2027 | F35: TOTAL PDD | G35: TIPO DE ANUALIZACIÓN | H35: Constante
B36: 1 | C36: 1 | D36: 1 | E36: 1 | F36: 1
A37: PONDERACIÓN ACTIVIDAD | B37: 0.39 | D37: DESCRIPCIÓN CUALITATIVA DEL AVANCE POR ACTIVIDAD
A38: ENERO | B38: PROGRAMACIÓN | C38: EJECUCIÓN | D38: AVANCES Y LOGROS MENSUAL (2.000 CARACTERES) | F38: AVANCES Y LOGROS ACUMULADO (2.000 CARACTERES) | H38: RETRASOS Y ALTERNATIVAS DE SOLUCIÓN (1.000 CARACTERES) | I38: BENEFICIOS
B39: 0 | C39: 0 | D39: No se programaron actividades para este periodo
A40: FEBRERO | B40: PROGRAMACIÓN | C40: EJECUCIÓN | D40: AVANCES Y LOGROS MENSUAL (2.000 CARACTERES) | F40: AVANCES Y LOGROS ACUMULADO (2.000 CARACTERES) | H40: RETRASOS Y ALTERNATIVAS DE SOLUCIÓN (1.000 CARACTERES) | I40: BENEFICIOS
B41: 0.03 | C41: 0.03 | D41: Con el fin de fortalecer la incorporación del enfoque de género en los procesos de gestión financiera desarrollados por los aliados público-privados de la Estrategia de Autonomía Económica de las Mujeres, en el mes de febrero se avanzó en el diseño de dos contenidos de sensibilización y cualificación dirigidos a estos actores. Los contenidos abordan, por una parte, las brechas que enfrentan las mujeres para alcanzar la autonomía económica y, por otra, conceptos clave de género y lenguaje incluyente. Como acción orientada a disminuir barreras de acceso tecnológico, se elaboró un instructivo con orientaciones para que las mujeres participantes puedan conectarse a los procesos de cualificación virtual a través de la plataforma Teams, desde dispositivos móviles o computadores. | F41: A febrero el cumplimiento de la actividad va en un 0,03 sobre el (1) uno programado para la vigencia 2026, con la elaboracion de (2) dos contenidos dirigido a los aliados público privados de la Estartegia para la Autonomia Economica y (1) un instructivo para el manejo de la plataforma TEAMS dirigido a las mujeres participantes de los espcios de cualificación de la Estrategia. | H41: N/A | I41: El desarrollo de esta actividad, contribuye a que las mujeres participantes de la Ruta de Autonomía Económica accedan a procesos de formación, acompañamiento y ofertas de empleo más pertinentes e inclusivos, al promover que los aliados público-privados incorporen el enfoque de género en los contenidos, metodologías y convocatorias. Esto favorece el reconocimiento de las brechas que enfrentan las mujeres en el ámbito económico y fortalece las herramientas y conocimientos que apoyan su empoderamiento y el avance hacia su autonomía económica.
A42: MARZO | B42: PROGRAMACIÓN | C42: EJECUCIÓN | D42: AVANCES Y LOGROS MENSUAL (2.000 CARACTERES) | F42: AVANCES Y LOGROS ACUMULADO (2.000 CARACTERES) | H42: RETRASOS Y ALTERNATIVAS DE SOLUCIÓN (1.000 CARACTERES) | I42: BENEFICIOS
B43: 0.08 | C43: 0.08 | D43: Durante este periodo se avanzó en la construcción de la propuesta del Documento de Sistematización del proceso de cualificación de la Estrategia, alcanzando el desarrollo de sus componentes clave, entre ellos la introducción, los objetivos general y específicos, la metodología y los indicadores de seguimiento. Este avance es relevante en tanto el documento permitirá recoger y analizar la percepción de las mujeres participantes sobre los aportes del proceso de cualificación en el fortalecimiento de sus habilidades socioemocionales, el conocimiento de sus derechos y el manejo de herramientas financieras y laborales; constituyéndose así en un insumo fundamental para identificar logros, valorar impactos y orientar ajustes que fortalezcan de manera continua la Estrategia para la Autonomía Económica de las Mujeres. | F43: A marzo el cumplimiento de la actividad va en un 0,11 sobre el (1) uno programado para la vigencia 2026, con la elaboracion de (2) dos contenidos dirigido a los aliados público privados de la Estartegia para la Autonomia Economica y (1) un instructivo para el manejo de la plataforma TEAMS dirigido a las mujeres participantes de los espcios de cualificación de la Estrategia, y el avance en la construcción de la propuesta del documento de sistematización, anexo del documento orientador de la Estrategia para la Autonomía Económica de las Mujeres. | H43: N/A | I43: El principal beneficio para las mujeres de la ciudad radica en que este proceso de recolección de datos y análisis, permite visibilizar y valorar sus experiencias y percepciones, asegurando que sus voces sean tenidas en cuenta en la mejora continua de la Estrategia para la Autonomía Económica de las Mujeres. A partir de ello, se podrán fortalecer de manera más pertinente los contenidos sobre habilidades socioemocionales, ampliar su conocimiento sobre derechos y mejorar sus capacidades en gestión financiera y laboral, lo que contribuye directamente a incrementar sus oportunidades de generación de ingresos, toma de decisiones autónomas y, en general, aporta a un mayor nivel de bienestar y autonomía económica.
A44: ABRIL | B44: PROGRAMACIÓN | C44: EJECUCIÓN | D44: AVANCES Y LOGROS MENSUAL (2.000 CARACTERES) | F44: AVANCES Y LOGROS ACUMULADO (2.000 CARACTERES) | H44: RETRASOS Y ALTERNATIVAS DE SOLUCIÓN (1.000 CARACTERES) | I44: BENEFICIOS
B45: 0.08 | C45: 0.08 | D45: Como avance de la actividad, durante este periodo se ajustaron dos contenidos de cualificación —Proyecto de Vida y Política Pública Mujer y Equidad de Género— incorporando un enfoque diferencial indígena y armonizando sus componentes conceptuales y metodológicos con la cosmovisión de los pueblos indígenas. Esta actualización fortalecerá la pertinencia y accesibilidad de los procesos formativos dirigidos a mujeres indígenas, cuya implementación iniciará en mayo en Casa Refugio Rural. | F45: En abril el cumplimiento de la actividad va en un 0,19 sobre el (1) uno programado para la vigencia 2026, con la elaboracion de (2) dos contenidos dirigido a los aliados público privados de la Estartegia para la Autonomia Economica y (1) un instructivo para el manejo de la plataforma TEAMS dirigido a las mujeres participantes de los espcios de cualificación de la Estrategia, y el avance en la construcción de la propuesta del documento de sistematización, anexo del documento orientador de la Estrategia para la Autonomía Económica de las Mujeres. Asimismo, el ajuste de dos contenidos, uno socioemocional (Proyecto de Vida) y uno de Derechos Humanos (Política Pública Mujer y Equidad de Género) desde un enfoque diferencial indígena, en donde se tuvo en cuenta un ajuste conceptual y metodológico armonizado con la cosmovisión de los pueblos indígenas. | H45: N/A | I45: La incorporación del enfoque diferencial indígena en los contenidos de cualificación permitirá a las mujeres indígenas acceder a procesos formativos más pertinentes, inclusivos y acordes con sus contextos culturales, fortaleciendo el reconocimiento de sus derechos y su participación en espacios de formación desde una perspectiva respetuosa de su identidad y cosmovisión.
A46: MAYO | B46: PROGRAMACIÓN | C46: EJECUCIÓN | D46: AVANCES Y LOGROS MENSUAL (2.000 CARACTERES) | F46: AVANCES Y LOGROS ACUMULADO (2.000 CARACTERES) | H46: RETRASOS Y ALTERNATIVAS DE SOLUCIÓN (1.000 CARACTERES) | I46: BENEFICIOS
B47: 0.08 | C47: 0.08 | D47: Durante este periodo, se diseñaron dos mecanismos de recolección de información para la elaboración del documento orientador de la Estrategia: * Uno es el instrumento de recolección de información, orientado a identificar los aportes que los procesos de cualificación han tenido para la vida de las mujeres participantes en la ruta de cualificación. * Y dos es el guion metodológico, diseñado para desarrollar grupos focales, con el fin de recoger información cualitativa, analizar los hallazgos y promover la reflexión conjunta con las participantes | F47: En mayo el cumplimiento de la actividad va en un 0,27 sobre el (1) uno programado para la vigencia 2026. Avanzando en: *Elaboración de (2) dos contenidos dirigidos a los aliados público privados de la Estartegia para la Autonomia Economica. *Elaboración de(1) un instructivo para el manejo de la plataforma TEAMS dirigido a las mujeres participantes de los espcios de cualificación de la Estrategia. * Ajuste de dos (2) contenidos, socioemocional (Proyecto de Vida) y de Derechos Humanos (Política Pública Mujer y Equidad de Género) desde un enfoque diferencial indígena. *Elaboración Instrumentos recoleccion de información, para la sistematizacion de experiencias de las mujeres. *Se construyó un guion metodológico para aplicar en sesiones de grupos focales en donde se recogerá información de tipo cualitativa. | H47: N/A | I47: La construcción de estos mecanismos de recolección de información beneficia a las mujeres participantes al generar espacios para que compartan sus experiencias y percepciones sobre los procesos de cualificación recibidos. Esto permite identificar los aportes y transformaciones que la Estrategia para la Autonomía Económica ha tenido en sus vidas, fortalecer las acciones desarrolladas a partir de sus necesidades y expectativas, y promover procesos de reflexión y reconocimiento de los aprendizajes alcanzados mediante la socialización y análisis conjunto de los resultados obtenidos.
A48: JUNIO | B48: PROGRAMACIÓN | C48: EJECUCIÓN | D48: AVANCES Y LOGROS MENSUAL (2.000 CARACTERES) | F48: AVANCES Y LOGROS ACUMULADO (2.000 CARACTERES) | H48: RETRASOS Y ALTERNATIVAS DE SOLUCIÓN (1.000 CARACTERES) | I48: BENEFICIOS
B49: 0.08 | C49: 0.08 | D49: Durante el mes de junio se avanzó en la elaboración de los contenidos "Proyecto de Vida" y "Derecho al Cuidado" con enfoque diferencial para mujeres negras y afrodescendientes. En articulación con el Consejo Consultivo de Mujeres Negras y Afrodescendientes, se revisaron las propuestas metodológicas, se incorporaron los aportes recibidos y se consolidaron las versiones preliminares de ambos contenidos, las cuales servirán como base para su implementación mediante con un grupo piloto. | F49: En junio el cumplimiento de la actividad va en un 0,35 sobre el (1) uno programado para la vigencia 2026. Avanzando en: *Elaboración de (2) dos contenidos dirigidos a los aliados público privados de la Estrategia para la Autonomía Económica: Uno de sensibilización sobre las brechas que tienen las mujeres para alcanzar la Autonomía Económica y el segundo sobre conceptos clave de género y lenguaje incluyente. *Elaboración de(1) un instructivo para el manejo de la plataforma TEAMS dirigido a las mujeres participantes de los espcios de cualificación de la Estrategia. * Ajuste de dos (2) contenidos, socioemocional (Proyecto de Vida) y de Derechos Humanos (Política Pública Mujer y Equidad de Género) desde un enfoque diferencial indígena. *Elaboración Instrumentos recoleccion de información, para la sistematizacion de experiencias de las mujeres. *Se construyó un guion metodológico para aplicar en sesiones de grupos focales en donde se recogerá información de tipo cualitativa. *Elaboración de los contenidos "Proyecto de Vida" y "Derecho al Cuidado" con enfoque diferencial para mujeres negras y afrodescendientes. | H49: N/A | I49: El avance en elaboración de estos contenidos contribuye a fortalecer la pertinencia y el enfoque diferencial de la Ruta de Cualificación, al incorporar los aportes del Consejo Consultivo de Mujeres Negras y Afrodescendientes en su construcción. De esta manera, se promueve una oferta formativa acorde con las realidades, experiencias y necesidades de las mujeres negras y afrodescendientes, favoreciendo procesos de aprendizaje más inclusivos y pertinentes.
A50: JULIO | B50: PROGRAMACIÓN | C50: EJECUCIÓN | D50: AVANCES Y LOGROS MENSUAL (2.000 CARACTERES) | F50: AVANCES Y LOGROS ACUMULADO (2.000 CARACTERES) | H50: RETRASOS Y ALTERNATIVAS DE SOLUCIÓN (1.000 CARACTERES) | I50: BENEFICIOS
B51: 0.08 | C51: 0.08 | D51: En el mes de julio se avanzó en la elaboración y consolidación del informe de gestión de la Estrategia para la Autonomía Económica de las Mujeres correspondiente a la vigencia 2026. Este documento integra y organiza la información reportada por los equipos de Alianzas, Cualificación y Territorial, permitiendo evidenciar de manera articulada los principales avances en la implementación de la ruta de cualificación. Asimismo, consolida los resultados relacionados con la gestión de alianzas, el desarrollo y actualización de los procesos de cualificación, las acciones implementadas en los territorios y en las Casas Refugio, así como los principales logros, retos y recomendaciones identificados durante el periodo. Este ejercicio fortalece el seguimiento a la gestión de la Estrategia y aporta información clave para la toma de decisiones, la mejora continua y los procesos de rendición de cuentas. | F51: En julio el cumplimiento de la actividad va en un 0,43 sobre el (1) uno programado para la vigencia 2026. Avanzando en: *Elaboración de (2) dos contenidos dirigidos a los aliados público privados de la Estrategia para la Autonomía Económica: Uno de sensibilización sobre las brechas que tienen las mujeres para alcanzar la Autonomía Económica y el segundo sobre conceptos clave de género y lenguaje incluyente. *Elaboración de(1) un instructivo para el manejo de la plataforma TEAMS dirigido a las mujeres participantes de los espcios de cualificación de la Estrategia. * Ajuste de dos (2) contenidos, socioemocional (Proyecto de Vida) y de Derechos Humanos (Política Pública Mujer y Equidad de Género) desde un enfoque diferencial indígena. *Elaboración Instrumentos recoleccion de información, para la sistematizacion de experiencias de las mujeres. *Se construyó un guion metodológico para aplicar en sesiones de grupos focales en donde se recogerá información de tipo cualitativa. *Elaboración de los contenidos "Proyecto de Vida" y "Derecho al Cuidado" con enfoque diferencial para mujeres negras y afrodescendientes. *Elboración del I Informe de Gestión e Implementación de la Ruta de Cualificación de la Estrategia para la Autonomía Económica de las Mujeres | H51: N/A | I51: La elaboración de este informe contribuye a fortalecer el seguimiento y la evaluación de la Estrategia para la Autonomía Económica de las Mujeres, al consolidar información confiable sobre los avances, resultados y oportunidades de mejora en la implementación de la ruta de cualificación. Este ejercicio permite orientar la toma de decisiones para optimizar la oferta institucional y responder de manera más pertinente a las necesidades de las mujeres, favoreciendo el acceso a procesos de formación, orientación y acompañamiento que fortalezcan sus capacidades para el empleo, el emprendimiento y la generación de ingresos, promoviendo así su autonomía económica y el ejercicio efectivo de sus derechos.
A52: AGOSTO | B52: PROGRAMACIÓN | C52: EJECUCIÓN | D52: AVANCES Y LOGROS MENSUAL (2.000 CARACTERES) | F52: AVANCES Y LOGROS ACUMULADO (2.000 CARACTERES) | H52: RETRASOS Y ALTERNATIVAS DE SOLUCIÓN (1.000 CARACTERES) | I52: BENEFICIOS
...

Sheet Hoja de vida (1)
F1: DIRECCIONAMIENTO ESTRATÉGICO
F3: HOJA DE VIDA DEL INDICADOR
A5: ASOCIACIÓN
A6: CLASIFICACIÓN | D6: Proyectos | I6: SUB CLASIFICACIÓN | K6: Planes
A7: CATEGORÍA | D7: Resultado | I7: TIPO | K7: Eficacia
A8: PROCESO AL QUE APORTA | D8: Desarrollo de capacidades para la vida de las mujeres | I8: DEPENDENCIAS | K8: Subsecretaría del Cuidado y Políticas de Igualdad
A9: IDENTIFICACIÓN
A10: ACTIVIDAD | E10: =+[1]ACTIVIDAD_1!B12 -> Desarrollar 1 estrategia para potenciar las habilidades y capacidades de las mujeres en sus diversidades que aporten a su empoderamiento y autonomía económica
A11: NOMBRE DEL INDICADOR | E11: =+[1]ACTIVIDAD_1!I16 -> Documento actualizado de la estrategia para potenciar las habilidades y capacidades de las mujeres en sus diversidades
A12: OBJETIVO DEL INDICADOR | E12: Medir el avance en la actualización del documento de la estrategia para potenciar las habilidades y capacidades de la mujeres en sus diferencias y diviersidad.
A13: CÓDIGO DEL INDICADOR | D13: N.A | I13: MÉTODO DE RECOLECCIÓN | K13: Estadísticas
A14: CRITERIO DEL ANÁLISIS
A15: TIPO DE CÁLCULO | D15: Simple | I15: FRECUENCIA DE MEDICIÓN | K15: Mensual
A16: META PROGRAMADA | D16: =+[1]ACTIVIDAD_1!C37 -> 1 | I16: TIPO DE ANUALIZACIÓN | K16: Constante
A17: RANGO DE GESTIÓN | D17: NA
A18: No. | B18: ALIAS | C18: VARIABLES | H18: DESCRIPCIÓN | J18: UNIDAD DE MEDIDA | L18: FUENTE
A19: 1 | B19: NA | C19: Actualizar documento orientador | H19: Revisión y actualización del documento orientador de la Estrategia, enfatizando en el panorama situacional, marco normativo, marco político, los enfoques diferenciales, de género y derechos humanos para las mujeres, asi como mejores prácticas y herramientas innovadoras para la autonomía económica de las mujeres en sus diferencias y diversidad. | J19: Número | L19: Documento orientador de la Estrategia
A20: No. | B20: FÓRMULA DEL INDICADOR | L20: UNIDAD DE MEDIDA FÓRMULA
A21: 1 | B21: Avance del documento orientador actualizado | L21: Número
A22: DESCRIPCIÓN DEL INDICADOR
A23: LÍNEA BASE | D23: 1 | F23: Año de línea base | H23: 2024 | I23: FUENTE DE VERIFICACIÓN | K23: Plan de accion
A24: ANÁLISIS DEL INDICADOR
A25: GLOSARIO DE TÉRMINOS
A26: OBSERVACIONES

Sheet ACTIVIDAD 2
B1: SECRETARÍA DISTRITAL DE LA MUJER | M1: Código: DE-FO-5
B2: DIRECCIONAMIENTO ESTRATEGICO | M2: Versión: 14
B3: PROGRAMACIÓN, ACTUALIZACIÓN Y SEGUIMIENTO PLAN DE ACCIÓN DE PROYECTOS DE INVERSIÓN | M3: Fecha de Emisión: 28/04/2025
B4: ACTIVIDADES | M4: Página 2 de 7
A6: PROYECTO DE INVERSIÓN | B6: 8232 - Implementación de estrategias para el empoderamiento económico de las mujeres en toda su diversidad en Bogotá D.C. | L6: BPIN | M6: 2024110010318
A8: PERIODO REPORTADO | B8: Enero | D8: Febrero | F8: Marzo | H8: Abril | J8: TIPO DE REPORTE | L8: FORMULACION
B9: Mayo | D9: Junio | F9: Julio | H9: Agosto | L9: ACTUALIZACION
B10: Septiembre | C10: X | D10: Octubre | F10: Noviembre | H10: Diciembre | L10: SEGUIMIENTO | M10: X
A12: ACTIVIDAD DEL PROYECTO | B12: Cualificar 9.000 mujeres en sus diferencias y diversidades en herramientas para la autonomía económica.
A16: PRODUCTO MGA | B16: Servicio de educación informal | G16: INDICADOR ACTIVIDAD | I16: Número de mujeres cualificadas en herramientas para la autonomía económica
A18: OBJETIVO ESTRATÉGICO | B18: 3. Bogotá confía en su potencial | F18: PROGRAMA | G18: 3.20. Promoción del emprendimiento formal, equitativo e incluyente | J18: META PDD | K18: 192. Cualificar 9000 mujeres, en sus diferencias y diversidades, en herramientas para la autonomía económica.
A21: EJECUCIÓN PRESUPUESTAL DEL PROYECTO
A22: PRESUPUESTO ASIGNADO EN LA VIGENCIA ACTUAL (en pesos, sin decimales)
B23: Enero | C23: Febrero | D23: Marzo | E23: Abril | F23: Mayo | G23: Junio | H23: Julio | I23: Agosto | J23: Septiembre | K23: Octubre | L23: Noviembre | M23: Diciembre | N23: Total | O23: Porcentaje de ejecución
A24: PROGRAMACION DE COMPROMISOS | B24: 442578000 | C24: 0 | D24: 46493000 | E24: 0 | G24: 13719000 | H24: 23567199 | I24: 0 | J24: 0 | N24: =SUM(B24:M24) -> 526357199 | O24: 1
A25: COMPROMISOS | B25: 442578000 | C25: 0 | D25: -3716056 | E25: 10716806 | F25: 526000 | G25: 45967000 | H25: 1856479 | I25: 12634400 | J25: 0 | N25: =SUM(B25:M25) -> 510562629 | O25: =N25/N24 -> 0.96999268
A26: GIROS | B26: 0 | C26: 14306354 | D26: 41731166 | E26: 39817952 | F26: 38482619 | G26: 46528758 | H26: 35811952 | I26: 34324488 | J26: 35719052 | N26: =SUM(B26:M26) -> 286722341 | O26: =N26/N24 -> 0.54472959
A27: PROGRAMACIÓN RESERVAS | B27: 24781493 | C27: 4330500 | D27: 5000000 | E27: 10120853 | F27: 0 | G27: 6861256 | H27: 0 | I27: 0 | J27: 0 | N27: =SUM(B27:M27) -> 51094102 | O27: 1
A28: LIBERACION DE RESERVAS | B28: 0 | C28: 0 | D28: 0 | E28: 0 | F28: 0 | G28: 0 | H28: 0 | I28: 0 | J28: 0 | N28: =SUM(B28:M28) -> 0 | O28: =N28/N27 -> 0
A29: GIROS RESERVAS | B29: 13627717 | C29: 2992147 | D29: 436155 | E29: 27728528 | F29: 0 | G29: 4632131 | H29: 0 | I29: 0 | J29: 0 | N29: =SUM(B29:M29) -> 49416678 | O29: =N29/N27 -> 0.96716991
A33: REPORTE ACTIVIDADES VIGENCIA (Ejecución vigencia)
A34: DESCRIPCION DE LA ACTIVIDAD | B34: =+B12 -> Cualificar 9.000 mujeres en sus diferencias y diversidades en herramientas para la autonomía económica.
A35: ANUALIZACIÓN DE LA ACTIVIDAD | B35: 2024 | C35: 2025 | D35: 2026 | E35: 2027 | F35: TOTAL PDD | G35: TIPO DE ANUALIZACIÓN | H35: Suma
B36: 1070 | C36: 4013 | D36: 2027 | E36: 1890 | F36: =B36+C36+D36+E36 -> 9000
A37: PONDERACIÓN ACTIVIDAD | B37: 0.39 | D37: DESCRIPCIÓN CUALITATIVA DEL AVANCE POR ACTIVIDAD
A38: ENERO | B38: PROGRAMACIÓN | C38: EJECUCIÓN | D38: AVANCES Y LOGROS MENSUAL (2.000 CARACTERES) | F38: AVANCES Y LOGROS ACUMULADO (2.000 CARACTERES) | H38: RETRASOS Y ALTERNATIVAS DE SOLUCIÓN (1.000 CARACTERES) | I38: BENEFICIOS
B39: 0 | C39: 0 | D39: No se programaron actividades para este periodo
A40: FEBRERO | B40: PROGRAMACIÓN | C40: EJECUCIÓN | D40: AVANCES Y LOGROS MENSUAL (2.000 CARACTERES) | F40: AVANCES Y LOGROS ACUMULADO (2.000 CARACTERES) | H40: RETRASOS Y ALTERNATIVAS DE SOLUCIÓN (1.000 CARACTERES) | I40: BENEFICIOS
B41: 104 | C41: 80 | D41: Durante febrero de 2026, la Estrategia para la Autonomía Económica de las Mujeres avanzó en acciones de alistamiento, visibilización y consolidación territorial, iniciando su presencia en diferentes localidades de Bogotá y fortaleciendo la difusión de la ruta de cualificación para la autonomía económica. En este marco, se desarrollaron orientaciones a mujeres en diversos escenarios institucionales y comunitarios, así como jornadas territoriales de difusión del portafolio de oportunidades para la generación de ingresos. De igual manera, se promovieron espacios de cualificación en modalidades presenciales y virtuales, a través de los cuales varias mujeres culminaron su proceso de cualifcación en herramientas orientadas al fortalecimiento de su autonomía económica, contribuyendo así a ampliar sus capacidades para el acceso a oportunidades de empleo, emprendimiento y generación de ingresos. | F41: *En febrero se cualificaron 80 mujeres de las 2027 programadas para la vigencia 2026, en herramietas para la la autonomía económica. *Se realizaron 652 orientaciones a mujeres en diversos escenarios de atención. *Se realizaron 125 registros de mujeres en jornadas territoriales de difusión del portafolio de oportunidades para la generación de ingresos *Se promovieron 13 espacios de cualificación, en los que registraron 325 asistencias en modalidades presenciales y virtuales. | H41: No se alcanzó a cumplir con la meta establecida, tendiendo un rezago de 24 mujeres, esto obedece principalmente a que si bien se ha logrado llegar a un número significativo de ciudadanas, el tiempo para la culminación de la cualificación puede variar según la disponibilidad de tiempo de las mujeres. Para mejorar el cumplimiento de la meta, se van a intensificar acciones durante el mes de marzo a traves de espacios conmemorativos, asi mismo se va ampliar la articulación interinstitucional con otros actores locales, con el fin de llegar a escenarios no abordados anteriormente para la difusión de la ruta de cualificación, los cuales pueden impactar en alcanzar los cumplimientos de meta programados. | I41: Las acciones desarrolladas en esta actividad, contribuyen a que las mujeres de la ciudad conozcan y accedan a oportunidades reales para fortalecer su autonomía económica, mediante orientación, información y acompañamiento sobre alternativas de empleo, formación y generación de ingresos. Asimismo, los espacios de cualificación les permiten desarrollar habilidades y herramientas para mejorar su perfil ocupacional, fortalecer iniciativas productivas y ampliar sus posibilidades de inserción laboral o emprendimiento. De esta manera, se promueve el empoderamiento económico de las mujeres, el fortalecimiento de sus capacidades para la toma de decisiones sobre su vida económica y la reducción de barreras de acceso a oportunidades en el mercado laboral y productivo de la ciudad.
A42: MARZO | B42: PROGRAMACIÓN | C42: EJECUCIÓN | D42: AVANCES Y LOGROS MENSUAL (2.000 CARACTERES) | F42: AVANCES Y LOGROS ACUMULADO (2.000 CARACTERES) | H42: RETRASOS Y ALTERNATIVAS DE SOLUCIÓN (1.000 CARACTERES) | I42: BENEFICIOS
B43: 220 | C43: 256 | D43: Durante marzo se logró cualificar a 256 mujeres, alcanzado el cumplimiento 100% respecto a la programación. Adicionalmente se supera el rezago del mes anterior esto dado a que en el marco de la conmemoración del día internacional de los Derechos de las mujeres se realizó un espacio de reconocimiento a la culminación de la ruta con las mujeres y se aperturó un escenario de comercialización de sus producto posibilitando el reconocimiento de sus estrategias de generación de ingresos. Paralelamente, se fortalecieron acciones de gestión en espacios locales conmemorativos y se avanzó en el impulso de la gestión de nuevos escenarios locales no abordados anteriormente para la difusión de la ruta de cualificación, los cuales impactan en alcanzar los cumplimientos de meta programados. | F43: *A marzo se han cualificado 336 mujeres de las 2027 programadas para la vigencia 2026, en herramietas para la la autonomía económica. *Se han realizado 1501 orientaciones a mujeres en diversos escenarios de atención. *Se han realizado 332 registros de mujeres en jornadas territoriales de difusión del portafolio de oportunidades para la generación de ingresos *Se han promovido 75 espacios de cualificación, en los que registraron 1185 asistencias en modalidades presenciales y virtuales. | H43: N/A | I43: Los beneficios para las mujeres se evidencian en el fortalecimiento integral de sus capacidades personales, sociales y económicas, a través de procesos de cualificación que promueven el reconocimiento de sus derechos, el desarrollo de habilidades socioemocionales y el acceso a herramientas prácticas para la empleabilidad y el emprendimiento. Asimismo, la presencia territorial y la ampliación de espacios de participación facilitan un mayor acceso a información, orientación y oportunidades, lo que contribuye a mejorar su autonomía, potenciar sus iniciativas de generación de ingresos y favorecer su inclusión en escenarios económicos y sociales. Todo ello se traduce en un impacto positivo en su bienestar, en su capacidad de toma de decisiones y en el reconocimiento de su rol activo dentro de la comunidad.
A44: ABRIL | B44: PROGRAMACIÓN | C44: EJECUCIÓN | D44: AVANCES Y LOGROS MENSUAL (2.000 CARACTERES) | F44: AVANCES Y LOGROS ACUMULADO (2.000 CARACTERES) | H44: RETRASOS Y ALTERNATIVAS DE SOLUCIÓN (1.000 CARACTERES) | I44: BENEFICIOS
B45: 150 | C45: 253 | D45: Durante el mes de abril se cualificaron 253 mujeres, superando la meta programada, gracias a la apertura de nuevos espacios de cualificación en articulación con la Cámara de Comercio de Bogotá y a la participación de las mujeres en la jornada “Lidertesas”, fortaleciendo sus habilidades comerciales, estratégicas y digitales. Así mismo, se fortalecieron las acciones de gestión territorial y articulación interinstitucional. De manera complementaria, el equipo territorial continúa impulsando la fase de direccionamiento a oportunidades,a las mujeres cualificadas, favoreciendo la permanencia y culminación efectiva de la ruta de cualificación. | F45: *A abril se han cualificado 589 mujeres de las 2027 programadas para la vigencia 2026, en herramietas para la la autonomía económica. *Se han realizado 2214 orientaciones a mujeres en diversos escenarios de atención. *Se han realizado 452 registros de mujeres en jornadas territoriales de difusión del portafolio de oportunidades para la generación de ingresos *Se han promovido 149 espacios de cualificación, en los que registraron 2303 asistencias en modalidades presenciales y virtuales. | H45: N/A | I45: Durante el periodo reportado, las mujeres participantes fortalecieron sus capacidades para el empleo, el emprendimiento y la generación de ingresos, mediante procesos de cualificación en habilidades comerciales, estratégicas, digitales, socioemocionales y de gestión financiera y laboral. Así mismo, accedieron a espacios de comercialización y posicionamiento de sus productos a través de ferias locales y jornadas de emprendimiento, favoreciendo el fortalecimiento de sus iniciativas productivas. De igual manera, se promovió el conocimiento y ejercicio de los derechos humanos de las mujeres yde sus habilidades socioemocionales.
A46: MAYO | B46: PROGRAMACIÓN | C46: EJECUCIÓN | D46: AVANCES Y LOGROS MENSUAL (2.000 CARACTERES) | F46: AVANCES Y LOGROS ACUMULADO (2.000 CARACTERES) | H46: RETRASOS Y ALTERNATIVAS DE SOLUCIÓN (1.000 CARACTERES) | I46: BENEFICIOS
B47: 250 | C47: 240 | D47: Durante el mes de mayo se logró la cualificación de 240 mujeres, alcanzando el 96 % de la meta programada para el periodo y presentando un rezago de 10 mujeres frente a lo previsto. Esta diferencia se asocia principalmente a factores relacionados con la disponibilidad de tiempo de las participantes y la asistencia efectiva a los espacios programados, situación que incidió en la culminación de algunos procesos de cualificación dentro del mes. No obstante, se mantuvo una alta ejecución de las actividades previstas y se continuó fortaleciendo la gestión y articulación territorial para la difusión de la ruta de cualificación y la vinculación de nuevas participantes. | F47: *A mayo se han cualificado 829 mujeres de las 2027 programadas para la vigencia 2026, en herramietas para la la autonomía económica. *Se han realizado 2985 orientaciones a mujeres en diversos escenarios de atención. *Se han realizado 552 registros de mujeres en jornadas territoriales de difusión del portafolio de oportunidades para la generación de ingresos *Se han promovido 248 espacios de cualificación, en los que registraron 3943 asistencias en modalidades presenciales y virtuales. | H47: Con el fin de alcanzar el cumplimiento de la meta programada, se fortalecerán las estrategias de convocatoria, seguimiento y confirmación de asistencia de las participantes, mediante la articulación con actores territoriales y la ampliación de los canales de difusión de la oferta. Así mismo, se priorizará la vinculación de mujeres previamente orientadas e interesadas en los procesos de cualificación, promoviendo su participación en los espacios programados durante los meses siguientes para garantizar el cumplimiento de la meta anual. | I47: Las acciones desarrolladas durante el mes de mayo beneficiaron a las mujeres participantes al fortalecer sus conocimientos y capacidades en temas relacionados con derechos humanos, habilidades socioemocionales y herramientas para la empleabilidad y el emprendimiento, contribuyendo al fortalecimiento de su autonomía económica. Asimismo, la gestión y articulación territorial permitió ampliar el acceso a la oferta institucional, facilitando que un mayor número de mujeres conocieran y se vincularan a los procesos de cualificación, generando mayores oportunidades para el desarrollo de sus proyectos personales, laborales y productivos.
A48: JUNIO | B48: PROGRAMACIÓN | C48: EJECUCIÓN | D48: AVANCES Y LOGROS MENSUAL (2.000 CARACTERES) | F48: AVANCES Y LOGROS ACUMULADO (2.000 CARACTERES) | H48: RETRASOS Y ALTERNATIVAS DE SOLUCIÓN (1.000 CARACTERES) | I48: BENEFICIOS
B49: 180 | C49: 239 | D49: Durante el mes de junio se logró la cualificación de 239 mujeres, superando la meta programada y el rezago de las 10 mujeres del mes inmediatamente anterior, esto se logro a través de la participación en espacios de cualificación presenciales y/o virtuales; en contenidos relacionados con derechos humanos, en habilidades socioemocionales, así como de gestión financiera en empleabilidad y emprendimiento. Se continúan fortalecieron acciones de gestión y articulación local, para la difusión de la ruta de cualificación, los cuales impactan en alcanzar los cumplimientos de meta programados. | F49: *A junio se han cualificado 1.068 mujeres de las 2.027 programadas para la vigencia 2026, en herramietas para la la autonomía económica. *Se han realizado 3569 orientaciones a mujeres en diversos escenarios de atención. *Se han realizado 678 registros de mujeres en jornadas territoriales de difusión del portafolio de oportunidades para la generación de ingresos *Se han promovido 316 espacios de cualificación, en los que registraron 4954 asistencias en modalidades presenciales y virtuales. | H49: N/A | I49: El avance alcanzado durante el mes de junio permitió que un mayor número de mujeres fortaleciera sus capacidades para el ejercicio de sus derechos, la toma de decisiones, el desarrollo de habilidades socioemocionales y la adquisición de herramientas para la empleabilidad, el emprendimiento y la gestión financiera. Asimismo, las acciones de articulación y gestión territorial favorecieron una mayor difusión y acceso a la Ruta de Cualificación, ampliando las oportunidades para que más mujeres de Bogotá participen en procesos que contribuyen al fortalecimiento de su autonomía económica y al mejoramiento de sus condiciones de vida.
A50: JULIO | B50: PROGRAMACIÓN | C50: EJECUCIÓN | D50: AVANCES Y LOGROS MENSUAL (2.000 CARACTERES) | F50: AVANCES Y LOGROS ACUMULADO (2.000 CARACTERES) | H50: RETRASOS Y ALTERNATIVAS DE SOLUCIÓN (1.000 CARACTERES) | I50: BENEFICIOS
B51: 270 | C51: 262 | D51: Durante el mes de julio se cualificaron 262 mujeres, alcanzando un resultado de ocho (8) mujeres por debajo de la meta programada para el periodo. Es importante señalar que el cumplimiento de la meta mensual está condicionado por el tiempo que requiere el proceso de cualificación y, especialmente, por la permanencia y la participación voluntaria de las mujeres a lo largo de la ruta. En este contexto, el equipo mantuvo de manera permanente las acciones de convocatoria y seguimiento, promoviendo la participación de las mujeres en espacios de cualificación presenciales y virtuales, mediante el desarrollo de contenidos en derechos humanos, habilidades socioemocionales y herramientas para la gestión financiera orientadas al fortalecimiento de capacidades para la empleabilidad y el emprendimiento. De igual manera, se fortalecieron las acciones de gestión y articulación con actores locales para ampliar la difusión de la ruta de cualificación y acercar la oferta institucional a un mayor número de mujeres. Estas acciones contribuyen a incrementar la participación, fortalecer la permanencia en el proceso de formación y avanzar de manera progresiva en el cumplimiento de las metas programadas por la Estrategia. Es importante resaltar que, aunque en el mes de julio se presentó un rezago de ocho (8) mujeres frente a la meta mensual, el comportamiento acumulado de la vigencia continúa por encima de la meta programada, lo que evidencia un avance satisfactorio en la implementación de la Estrategia y permite prever el cumplimiento de la meta anual. | F51: *A julio se han cualificado 1.330 mujeres de las 2.027 programadas para la vigencia 2026, en herramietas para la la autonomía económica. *Se han realizado 4.263 orientaciones a mujeres en diversos escenarios de atención. *Se han realizado 836 registros de mujeres en jornadas territoriales de difusión del portafolio de oportunidades para la generación de ingresos *Se han promovido 390 espacios de cualificación, en los que registraron 6.022 asistencias en modalidades presenciales y virtuales. | H51: Se van a continuar desarrollando acciones para mantener el cumplimiento de las metas establecidas, fortaleciendo la convocatoria y el seguimiento a las mujeres interesadas en la ruta de cualificación, promoviendo su permanencia y culminación del proceso formativo. Asimismo, se reforzará la articulación con aliados estratégicos y actores territoriales para ampliar la difusión de la oferta institucional y facilitar el acceso de más mujeres a los espacios de formación. De igual manera, se mantendrá el monitoreo permanente de las metas e indicadores de ejecución, realizando los ajustes operativos que sean necesarios para garantizar el cumplimiento de la programación. | I51: Las acciones desarrolladas durante el mes de julio fortalecieron el acceso y la permanencia de las mujeres en la ruta de cualificación, permitiéndoles adquirir herramientas en derechos humanos, habilidades socioemocionales y gestión financiera que fortalecen sus capacidades para la empleabilidad, el emprendimiento y la generación de ingresos. Asimismo, el fortalecimiento de la convocatoria, el seguimiento y la articulación con actores territoriales facilitó que un mayor número de mujeres conociera y accediera a la oferta institucional de la Estrategia, promoviendo procesos formativos más oportunos e incluyentes que contribuyen al fortalecimiento de su autonomía económica, la ampliación de sus oportunidades y el ejercicio efectivo de sus derechos.
A53: AGOSTO | B53: PROGRAMACIÓN | C53: EJECUCIÓN | D53: AVANCES Y LOGROS MENSUAL (2.000 CARACTERES) | F53: AVANCES Y LOGROS ACUMULADO (2.000 CARACTERES) | H53: RETRASOS Y ALTERNATIVAS DE SOLUCIÓN (1.000 CARACTERES) | I53: BENEFICIOS
...

Sheet Hoja de vida  (2)
F1: DIRECCIONAMIENTO ESTRATÉGICO
F3: HOJA DE VIDA DEL INDICADOR
A5: ASOCIACIÓN
A6: CLASIFICACIÓN | D6: Proyectos | I6: SUB CLASIFICACIÓN | K6: Planes
A7: CATEGORÍA | D7: Resultado | I7: TIPO | K7: Eficacia
A8: PROCESO AL QUE APORTA | D8: Desarrollo de capacidades para la vida de las mujeres | I8: DEPENDENCIAS | K8: Subsecretaría del Cuidado y Políticas de Igualdad
A9: IDENTIFICACIÓN
A10: ACTIVIDAD | E10: Cualificar 9.000 mujeres en sus diferencias y diversidad en herramientas para la autonomía económica.
A11: NOMBRE DEL INDICADOR | E11: Número de mujeres cualificadas en herramientas para la autonomía económica
A12: OBJETIVO DEL INDICADOR | E12: Determinar el número de mujeres cualificadas en herramientas para la autonomía económica .
A13: CÓDIGO DEL INDICADOR | D13: N.A. | I13: MÉTODO DE RECOLECCIÓN | K13: Estadísticas
A14: CRITERIO DEL ANÁLISIS
A15: TIPO DE CÁLCULO | D15: Simple | I15: FRECUENCIA DE MEDICIÓN | K15: Mensual
A16: META PROGRAMADA | D16: =[1]ACTIVIDAD_2!C37 -> 2930 | I16: TIPO DE ANUALIZACIÓN | K16: Suma
A17: RANGO DE GESTIÓN
A18: No. | B18: ALIAS | C18: VARIABLES | H18: DESCRIPCIÓN | J18: UNIDAD DE MEDIDA | L18: FUENTE
A19: 2 | B19: NA | C19: Mujeres cualificadas en sus diferencias y diversidad en herramientas para la autonomía económica | H19: Mujeres que han sido caracterizadas, que cuentan con hoja de ruta de cualificación y se les ha brindado acompañamiento durante su proceso de cualificación. | J19: Número | L19: Formatos hojas de ruta de mujeres
A20: No. | B20: FÓRMULA DEL INDICADOR | L20: UNIDAD DE MEDIDA FÓRMULA
A21: 1 | B21: Sumatoria de mujeres cualificadas | L21: Número
A22: DESCRIPCIÓN DEL INDICADOR
A23: LÍNEA BASE | D23: 1070 | F23: Año de linea base | H23: 2024 | I23: FUENTE DE VERIFICACIÓN | L23: Formatos hojas de ruta de mujeres
A24: ANÁLISIS DEL INDICADOR
A25: GLOSARIO DE TÉRMINOS
A26: OBSERVACIONES

Sheet ACTIVIDAD_3
B1: SECRETARÍA DISTRITAL DE LA MUJER | M1: Código: DE-FO-5
B2: DIRECCIONAMIENTO ESTRATEGICO | M2: Versión: 14
B3: PROGRAMACIÓN, ACTUALIZACIÓN Y SEGUIMIENTO PLAN DE ACCIÓN DE PROYECTOS DE INVERSIÓN | M3: Fecha de Emisión: 28/04/2025
B4: ACTIVIDADES | M4: Página 2 de 7
A6: PROYECTO DE INVERSIÓN | B6: 8232 - Implementación de estrategias para el empoderamiento económico de las mujeres en toda su diversidad en Bogotá D.C. | L6: BPIN | M6: 2024110010318
A8: PERIODO REPORTADO | B8: Enero | D8: Febrero | F8: Marzo | H8: Abril | J8: TIPO DE REPORTE | L8: FORMULACION
B9: Mayo | D9: Junio | F9: Julio | H9: Agosto | L9: ACTUALIZACION
B10: Septiembre | C10: X | D10: Octubre | F10: Noviembre | H10: Diciembre | L10: SEGUIMIENTO | M10: X
A12: ACTIVIDAD DEL PROYECTO | B12: Gestionar 1 portafolio de oportunidades a través de aliados públicos y privados para el empoderamiento y autonomía económica de las mujeres de Bogotá.
A16: PRODUCTO MGA | B16: Servicio de educación informal | G16: INDICADOR ACTIVIDAD | I16: Número de alianzas que contribuyan al empleo, la generación de ingresos y la formación de las mujeres en sus diferencias y diversidades para la gestión del portafolio de oportunidades
A18: OBJETIVO ESTRATÉGICO | B18: 3. Bogotá confía en su potencial | F18: PROGRAMA | G18: 3.20. Promoción del emprendimiento formal, equitativo e incluyente | J18: META PDD | K18: 192. Cualificar 9000 mujeres, en sus diferencias y diversidades, en herramientas para la autonomía económica.
A21: EJECUCIÓN PRESUPUESTAL DEL PROYECTO
A22: PRESUPUESTO ASIGNADO EN LA VIGENCIA ACTUAL (en pesos, sin decimales)
B23: Enero | C23: Febrero | D23: Marzo | E23: Abril | F23: Mayo | G23: Junio | H23: Julio | I23: Agosto | J23: Septiembre | K23: Octubre | L23: Noviembre | M23: Diciembre | N23: Total | O23: Porcentaje de ejecución
A24: PROGRAMACION DE COMPROMISOS | B24: 293491000 | C24: 0 | D24: 0 | E24: 0 | G24: 12594333 | H24: 0 | I24: 0 | J24: 0 | N24: =SUM(B24:M24) -> 306085333 | O24: 1
A25: COMPROMISOS | B25: 293491000 | C25: 0 | D25: -316667 | E25: 10085625 | F25: 0 | H25: 0 | I25: 0 | J25: 0 | N25: =SUM(B25:M25) -> 303259958 | O25: =N25/N24 -> 0.99076932
A26: GIROS | C26: 8604046 | D26: 29894754 | E26: 25520957 | F26: 25520957 | G26: 35606582 | H26: 25520957 | I26: 25520957 | J26: 25520957 | N26: =SUM(B26:M26) -> 201710167 | O26: =N26/N24 -> 0.65899978
A27: PROGRAMACIÓN RESERVAS | B27: 6000000 | C27: 8058000 | D27: 0 | E27: 0 | F27: 0 | G27: 0 | H27: 0 | I27: 0 | J27: 0 | N27: =SUM(B27:M27) -> 14058000 | O27: 1
A28: LIBERACION DE RESERVAS | D28: 0 | E28: 0 | F28: 0 | G28: 0 | H28: 0 | I28: 0 | J28: 612000 | N28: =SUM(B28:M28) -> 612000 | O28: =N28/N27 -> 0.043533931
A29: GIROS RESERVAS | B29: 7836000 | C29: 5610000 | D29: 0 | E29: 0 | F29: 0 | G29: 0 | H29: 0 | I29: 0 | J29: 0 | N29: =SUM(B29:M29) -> 13446000 | O29: =N29/N27 -> 0.95646607
A33: REPORTE ACTIVIDADES VIGENCIA (Ejecución vigencia)
A34: DESCRIPCION DE LA ACTIVIDAD | B34: =+B12 -> Gestionar 1 portafolio de oportunidades a través de aliados públicos y privados para el empoderamiento y autonomía económica de las mujeres de Bogotá.
A35: ANUALIZACIÓN DE LA ACTIVIDAD | B35: 2024 | C35: 2025 | D35: 2026 | E35: 2027 | F35: TOTAL PDD | G35: TIPO DE ANUALIZACIÓN | H35: Constante
B36: 1 | C36: 1 | D36: 1 | E36: 1 | F36: 1
A37: PONDERACIÓN ACTIVIDAD | B37: 0.22 | D37: DESCRIPCIÓN CUALITATIVA DEL AVANCE POR ACTIVIDAD
A38: ENERO | B38: PROGRAMACIÓN | C38: EJECUCIÓN | D38: AVANCES Y LOGROS MENSUAL (2.000 CARACTERES) | F38: AVANCES Y LOGROS ACUMULADO (2.000 CARACTERES) | H38: RETRASOS Y ALTERNATIVAS DE SOLUCIÓN (1.000 CARACTERES) | I38: BENEFICIOS
B39: 0 | C39: 0 | D39: No se programaron actividades para este periodo | F39: No se programaron actividades para este periodo | H39: N/A | I39: N/A
A40: FEBRERO | B40: PROGRAMACIÓN | C40: EJECUCIÓN | D40: AVANCES Y LOGROS MENSUAL (2.000 CARACTERES) | F40: AVANCES Y LOGROS ACUMULADO (2.000 CARACTERES) | H40: RETRASOS Y ALTERNATIVAS DE SOLUCIÓN (1.000 CARACTERES) | I40: BENEFICIOS
B41: 0.05 | C41: 0.05 | D41: Durante los meses de enero y febrero de 2026 se adelantó la gestión para la continuidad de las alianzas estratégicas de la Estrategia para la Autonomía Económica de las Mujeres con el propósito de consolidar el portafolio de oportunidades disponible para las mujeres de Bogotá. Como resultado de este proceso de articulación con aliados públicos y privados, se consolidaron 51 alianzas activas, orientadas a ampliar las oportunidades de acceso a empleo, formación y generación de ingresos. El portafolio se compone de 27 empresas con oportunidades de empleo, 5 empresas para generación de ingresos, 14 aliados de formación y 5 gremios empresariales,de los cuales la ANDI, comparte de manera permanente ofertas de empleo, lo que fortalece la articulación con el sector productivo y contribuye a promover mayores oportunidades para el empoderamiento y la autonomía económica de las mujeres en la ciudad. | F41: A febrero el cumplimiento de la actividad va en un 0,05 sobre el (1) uno programado para la vigencia 2026, a traves de la consolidación de 51 alianzas con el sector privado, que permitirán ampliar y fortalecer la oferta de oportunidades en materia de empleo, generación de ingresos, formación y articulación con gremios empresariales. | H41: N/A | I41: Actualmente se cuenta con 51 aliados del sector privado, consolidando un portafolio de ofertas a través del cual se lleva a las mujeres de Bogotá de manera permanente los programas de empleo y emprendimiento del distrito, generación de ingresos desde casa y programas de formación, que benefician a las mujeres en todas sus diferencias y diversidad, facilitando el acceso oportuno a la información y a herramientas de cualificación, contribuyendo así a su autonomía económica.
A42: MARZO | B42: PROGRAMACIÓN | C42: EJECUCIÓN | D42: AVANCES Y LOGROS MENSUAL (2.000 CARACTERES) | F42: AVANCES Y LOGROS ACUMULADO (2.000 CARACTERES) | H42: RETRASOS Y ALTERNATIVAS DE SOLUCIÓN (1.000 CARACTERES) | I42: BENEFICIOS
