Workbook
Name condicion: #REF!
Name edad: #REF!
Name etnias: #REF!
Name frecuencia: #REF!
Name genero: #REF!
Name INDICADOR: #REF!
Name localidad: #REF!
Name metas: #REF!
Name objetivoest: #REF!
Name objetivos: #REF!
Name pmr: #REF!
Name responsable: #REF!
Name SUBSECRETARIA: #REF!
Name subsecretarias: #REF!
Name tactividad: #REF!
Name tcalculo: #REF!
Name tindicador: #REF!
Name tipometa: #REF!
Name tmeta: #REF!

Sheet Instructivo
A1: PROGRAMACIÓN, ACTUALIZACIÓN Y SEGUIMIENTO PLAN DE ACCIÓN DE PROYECTOS DE INVERSIÓN
A2: ENCABEZADO DE TODAS LAS HOJAS
A3: ITEM | B3: DESCRIPCIÓN
A4: NOMBRE DEL PROYECTO | B4: En este campo se diligencia el nombre del proyecto de inversión como se encuentra en la ficha EBI-D y en la ficha MGA de formulación.
A5: PERIODO REPORTADO | B5: En este campo se marca con "X" el mes al cual corresponde el reporte de seguimiento
A6: TIPO DE REPORTE | B6: En este campo se selecciona según aplique. Programación: Corresponde al proceso de formulación del plan de acción de proyectos de inversión, el cual se realiza una vez por vigencia. Actualización: Corresponde al proceso mediante el cual la gerencia del proyecto modifica o ajusta la información contenida en el plan de acción de proyectos de inversión Seguimiento: Corresponde al proceso de reporte de avance de las actividades, tareas, meta PDD, producto MGA, territorialización y PMR de acuerdo con la programación.
A7: HOJA ACTIVIDAD
A8: ACTIVIDAD DEL PROYECTO | B8: En este campo se diligencia el nombre de la actividad del proyecto de inversión, como se encuentra registrada tanto en la ficha MGA como en la ficha EBI-D del proyecto de inversión
A9: PRODUCTO MGA | B9: En este campo se diligencia el nombre del producto registrado en la ficha MGA, asociado a la actividad correspondiente del proyecto de inversión.
A10: INDICADOR ACTIVIDAD | B10: En este campo se diligencia el nombre del indicador que se estableció para la actividad correspondiente, debe ser coherente con lo registrado en la hoja de vida de vida de indicadores.
A11: OBJETIVO ESTRATÉGICO | B11: En este campo se diligencia el nombre del Objetivo Estratégico establecido en la estructura Plan de Desarrollo vigente, bajo la cual se encuentra articulado el proyecto de inversión
A12: PROGRAMA | B12: En este campo se diligencia el nombre del Programa de acuerdo con la la estructura Plan de Desarrollo vigente, bajo la cual se encuentra articulado el proyecto de inversión
A13: META PDD | B13: En este campo se diligencia el nombre de la meta Plan de Desarrollo vigente, al cual se encuentra articulada la actividad correspondiente del proyecto de inversión.
A14: EJECUCIÓN PRESUPUESTAL DEL PROYECTO
A15: PROGRAMACION DE COMPROMISOS | B15: Se diligencia el valor de la programación mensual de compromisos. Para este campo, los insumos son la programación del proyecto coincidente con la programación PAABS.
A16: COMPROMISOS | B16: Se diligencia el valor de los compromisos efectivamente ejecutados mensualmente. Este dato debe coincidir con las ejecuciones de CRP de los informes BOGDATA.
A17: GIROS | B17: Se diligencia el valor mensual de los giros efectivamente ejecutados. Este dato debe coincidir con las ejecuciones de CRP (autorización giros) de los informes BOGDATA.
A19: PROGRAMACIÓN DE RESERVAS | B19: En este campo se diligencia el valor de la programación mensual a ejecutar de las reservas constituidas al inicio de la vigencia.
A20: LIBERACIÓN DE RESERVAS | B20: En este campo se registra el valor de las liberaciones de las reservas realizadas en el mes que corresponda.
A21: GIROS RESERVAS | B21: En este campo se diligencia el valor efectivo de los giros de la reserva para el mes correspondiente, este dato debe coincidir con la autorización de giros del informe de Rersevas de BOGDATA.
A22: REPORTE ACTIVIDADES VIGENCIA (Ejecución vigencia)
A23: DESCRIPCIÓN DE LA ACTIVIDAD | B23: Este campo se diligencia automaticamente, y corresponde al nombre de la actividad del proyecto de inversión, como quedó formulada tanto en la ficha MGA como en la ficha EBI-D del proyecto de inversión
A24: ANUALIZACIÓN DE LA ACTIVIDAD | B24: En este campo se diligencia para cada una de las vigencias, la meta numérica de la actividad (en valores absolutos o porcentuales), cuyo valor total debe corresponder a la meta del cuatrienio de la actividad, en coherencia con la información registrada en la ficha EBI-D del proyecto de inversión.
A25: TIPO DE ANUALIZACIÓN | B25: En este campo se diligencia el tipo de anualización de la actividad en coherencia con las mediciones establecidas por la SDP: Suma: La magnitud se distribuyen entre las vigencias y al final se tienen una totalización,es decir, la meta total de la actividad. Creciente: No tienen total y puede haber 2 años consecutivos con el mismo valor. El valor del último año corresponde a la meta total de la actividad. Decreciente: No tienen total y se registran en cada vigencia una magnitud igual o inferior hasta llegar a la meta de la actividad. Constante: No tienen total y las magnitudes deberán corresponder a un valor igual para cada vigencia
A26: PONDERACIÓN ACTIVIDAD | B26: En este campo se registra el valor porcentual asignado a la actividad dentro del plan de acción del proyecto de inversión. Es necesario tener en cuenta que la sumatoria de las ponderaciones de todas las actividades del plan de acción debe ser igual al 100%
A27: Programación | B27: Corresponde a las magnitudes que se mediran para cuantificar el bien o servicio, lo que se espera alcanzar en un periodo de tiempo a través de la ejecución o desempeño de las actividades. La sumatoria de la programación mensual debe corresponder con el valor de la anualización de la vigencia correspondiente.
A28: Ejecución | B28: Se diligencia la magnitud alcanzada durante el periodo reportado, a fin de cumplir la programación realizada para la actividad
A29: Avances y Logros Mensual (2.000 caracteres) | B29: En este campo se diligencia lo relacionando a los logros y avances del mes en coherencia con lo registrado en el avance cuantitativo de la actividad. Se recomienda dejar la información que se considere estratégica y de mayor relevancia.
A30: Avances y Logros Acumulado (2.000 caracteres) | B30: En este campo se diligencia lo relacionando a los logros y avances acumulados a la fecha del reporte en coherencia con lo registrado en el avance cuantitativo de la actividad, así como con la información reportada en meses anteriores. Se recomienda dejar la información que se considere estratégica y de mayor relevancia. IMPORTANTE: Se debe diligenciar la descripción cualitativa de manera acumulada de manera ejecutiva, sin replicar toda la información mes a mes de los seguimientos.
A31: Retrasos y Alternativas de solución (1.000 caracteres) | B31: En este campo se deberá diligenciar lo relacionando a las dificultades y alternativas de solución presentadas en el periodo en el que se dan. Cuando la ejecución del proyecto se encuentra acorde a lo programado, no se diligencia este campo o se incluye que el proyecto no presenta retrasos. IMPORTANTE: Se debe diligenciar la descripción cualitativa de manera acumulada de manera ejecutiva, sin replicar toda la información mes a mes de los seguimientos.
A32: Beneficios | B32: En este campo se deberá diligenciar lo relacionando con los beneficios aportados por la ejecución de la actividad, de forma acumulada e integrada. IMPORTANTE: Se debe diligenciar la descripción cualitativa de manera acumulada de manera ejecutiva, sin replicar toda la información mes a mes de los seguimientos.
A33: DESCRIPCIÓN CUALITATIVA Y PORCENTUAL DEL AVANCE POR TAREA
A34: DESCRIPCIÓN DE LA TAREA | B34: En este campo se diligencia el nombre de la tarea definida para la gestión de cumplimiento de la actividad del proyecto de inversión. Las tareas deben ser coherentes con las actividades a las cuales están asociadas y son aquellas que las dependencias deben llevar a cabo para producir los resultados definidos en las mismas.
A35: PONDERACIÓN DE LA TAREA | B35: En este campo se registra el valor porcentual asignado a la tarea (s) asociada (s) a la actividad, es decir, la sumatoria de las ponderaciones de las tareas de un actividad, debe ser igual al peso % de dicha actividad a la cual se encuentran asociadas.
A36: Programación (Tareas) | B36: En este campo se diligencia el porcentaje que se va a realizar en el mes de la tarea, la sumatoria de las programaciones mensuales debe sumar 100%.
A37: Ejecución (Tareas) | B37: En este campo se diligencia la magnitud alcanzada durante el periodo reportado, a fin de cumplir la programación mensual para la tarea.
A38: Logros y beneficios y Retrasos y alternativas de solución (2.000 caracteres) (Tareas) | B38: En este campo se registra: - El avance de la gestión mensual señalando las alertas que puedan afectar el cumplimiento de la tarea o producto, cuando aplique. - El avance acumulado y los productos obtenidos, indicando si se presentan retrasos y señalando las alternativas de solución que se implementarán.
A39: Evidencias de ejecución | B39: En este campo se registra el link o la ruta donde se puede consultar las evidencias que soportan la ejecución de las tareas.
A40: HOJA META PDD
A41: ITEM | B41: DESCRIPCIÓN
...

Sheet ACTIVIDAD_1
B1: SECRETARÍA DISTRITAL DE LA MUJER | M1: Código: DE-FO-5
B2: DIRECCIONAMIENTO ESTRATEGICO | M2: Versión: 14
B3: PROGRAMACIÓN, ACTUALIZACIÓN Y SEGUIMIENTO PLAN DE ACCIÓN DE PROYECTOS DE INVERSIÓN | M3: Fecha de Emisión: 28/04/2025
B4: ACTIVIDADES | M4: Página 2 de 7
A6: PROYECTO DE INVERSIÓN | B6: 8190 - Desarrollo de capacidades digitales para potenciar la inclusión social de las mujeres en zonas urbanas y rurales en Bogotá D.C. | L6: BPIN | M6: 2024110010313
A8: PERIODO REPORTADO | B8: Enero | D8: Febrero | F8: Marzo | H8: Abril | J8: TIPO DE REPORTE | L8: FORMULACION
B9: Mayo | D9: Junio | F9: Julio | H9: Agosto | I9: X | L9: ACTUALIZACION
B10: Septiembre | D10: Octubre | F10: Noviembre | H10: Diciembre | L10: SEGUIMIENTO | M10: X
A12: ACTIVIDAD DEL PROYECTO | B12: Diseñar 4 contenidos nuevos de formación en capacidades digitales con enfoque de género y diferencial
A16: PRODUCTO MGA | B16: Servicios de Educación Informal | G16: INDICADOR ACTIVIDAD | I16: Numero de contenidos nuevos de formación en capacidades digitales con enfoque de género y diferencial diseñados
A18: OBJETIVO ESTRATÉGICO | B18: 3. Bogotá confia en su potencial | F18: PROGRAMA | G18: 3.17. Formación para el trabajo y acceso a oportunidades educativas | J18: META PDD | K18: Formar 27.000 mujeres en habilidades digitales a través de los Centros de Inclusión Digital – CID, en zonas rurales y urbanas.
A21: EJECUCIÓN PRESUPUESTAL DEL PROYECTO
A22: PRESUPUESTO ASIGNADO EN LA VIGENCIA ACTUAL (en pesos, sin decimales)
B23: Enero | C23: Febrero | D23: Marzo | E23: Abril | F23: Mayo | G23: Junio | H23: Julio | I23: Agosto | J23: Septiembre | K23: Octubre | L23: Noviembre | M23: Diciembre | N23: Total | O23: Porcentaje de ejecución
A24: PROGRAMACION DE COMPROMISOS | B24: 650082000 | C24: 0 | D24: 0 | E24: 0 | F24: 0 | G24: 0 | H24: 20547797 | I24: -337312 | J24: 0 | K24: 0 | L24: 0 | M24: 0 | N24: =SUM(B24:M24) -> 670292485 | O24: 1
A25: COMPROMISOS | B25: 643259000 | C25: 0 | D25: -660000 | E25: -696666 | F25: 104370 | G25: 5113630 | H25: 16500000 | I25: 0 | J25: 0 | K25: 0 | L25: 0 | M25: 0 | N25: =SUM(B25:M25) -> 663620334 | O25: =N25/N24 -> 0.99004591
A26: GIROS | B26: 0 | C26: 9168860 | D26: 59075996 | E26: 59182665 | F26: 58267666 | G26: 59342666 | H26: 59557666 | I26: 60269333 | J26: 0 | K26: 0 | L26: 0 | M26: 0 | N26: =SUM(B26:M26) -> 364864852 | O26: =N26/N25 -> 0.54980963
A27: PROGRAMACIÓN RESERVAS | B27: 0 | C27: 41303031 | D27: 0 | E27: 0 | F27: 0 | G27: 0 | H27: 0 | I27: 0 | J27: 0 | K27: 0 | L27: 0 | M27: 0 | N27: =SUM(B27:M27) -> 41303031 | O27: 1
A28: LIBERACION DE RESERVAS | B28: 0 | C28: 0 | D28: 0 | E28: 1 | F28: 0 | G28: 0 | H28: 0 | I28: 0 | J28: 0 | K28: 0 | L28: 0 | M28: 0 | N28: =SUM(B28:M28) -> 1 | O28: =N28/N27 -> 2.4211298e-08
A29: GIROS RESERVAS | B29: 2142000 | C29: 25377434 | D29: 7794824 | E29: 0 | F29: 3521062 | G29: 0 | H29: 0 | I29: 0 | J29: 0 | K29: 0 | L29: 0 | M29: 0 | N29: =SUM(B29:M29) -> 38835320 | O29: =N29/N27 -> 0.94025351
A33: REPORTE ACTIVIDADES VIGENCIA (Ejecución vigencia)
A34: DESCRIPCION DE LA ACTIVIDAD | B34: =+B12 -> Diseñar 4 contenidos nuevos de formación en capacidades digitales con enfoque de género y diferencial
A35: ANUALIZACIÓN DE LA ACTIVIDAD | B35: 2024 | C35: 2025 | D35: 2026 | E35: 2027 | F35: TOTAL PDD | G35: TIPO DE ANUALIZACIÓN | H35: Suma
B36: 1 | C36: 1 | D36: 1 | E36: 1 | F36: =B36+C36+D36+E36 -> 4
A37: PONDERACIÓN ACTIVIDAD | B37: 0.44 | D37: DESCRIPCIÓN CUALITATIVA DEL AVANCE POR ACTIVIDAD
A38: ENERO | B38: PROGRAMACIÓN | C38: EJECUCIÓN | D38: AVANCES Y LOGROS MENSUAL (2.000 CARACTERES) | F38: AVANCES Y LOGROS ACUMULADO (2.000 CARACTERES) | H38: RETRASOS Y ALTERNATIVAS DE SOLUCIÓN (1.000 CARACTERES) | I38: BENEFICIOS
B39: 0 | C39: 0 | D39: No se presentan avances de acuerdo con la programación | F39: No se presentan avances de acuerdo con la programación | H39: No aplica.
A40: FEBRERO | B40: PROGRAMACIÓN | C40: EJECUCIÓN | D40: AVANCES Y LOGROS MENSUAL (2.000 CARACTERES) | F40: AVANCES Y LOGROS ACUMULADO (2.000 CARACTERES) | H40: RETRASOS Y ALTERNATIVAS DE SOLUCIÓN (1.000 CARACTERES) | I40: BENEFICIOS
B41: 0.08 | C41: 0.08 | D41: Con el fin de avanzar en la priorización de un nuevo curso de formación, en el mes de febrero se realizó una recopilación de necesidades, a partir de las percepciones de las ciudadanas y de las facilitadoras, expresadas en los instrumentos aplicados en los distintos procesos de formación. El curso seleccionado tendrá en cuenta: capacidad del equipo de los CID, urgencia de la temática para las mujeres, información disponible para la creación de contenido. | F41: Se avanzó en la priorización de posibles temáticas a desarrollar para el nuevo curso de formación. | H41: No se presentaron retrasos | I41: La identificación participativa de las necesidades de formación permitió consolidar insumos clave para fortalecer los procesos pedagógicos dirigidos a las mujeres en los territorios. Este análisis no solo visibilizó intereses concretos relacionados con el uso de herramientas web, digitales y de inteligencia artificial para la vida cotidiana y el emprendimiento, sino que también resaltó la importancia de la protección digital y la gestión de riesgos. Como resultado, se cuenta ahora con una base más precisa y contextualizada para orientar la oferta formativa, potenciar la autonomía económica de las participantes y enriquecer los contenidos de los cursos existentes.
A42: MARZO | B42: PROGRAMACIÓN | C42: EJECUCIÓN | D42: AVANCES Y LOGROS MENSUAL (2.000 CARACTERES) | F42: AVANCES Y LOGROS ACUMULADO (2.000 CARACTERES) | H42: RETRASOS Y ALTERNATIVAS DE SOLUCIÓN (1.000 CARACTERES) | I42: BENEFICIOS
B43: 0.08 | C43: 0.08 | D43: En el mes de marzo se avanzo en la construcción de la estructura del nuevo curso, el cual tendrá como contenido principal el reconocimiento y uso de la Inteligencia Artficial. Este contenido está pendiente de ser validado por la directora de gestión del conocimiento, luego de lo cual se iniciará el proceso de construcción de contenido y definición de línea gráfica. Adicional a este proceso, se tiene un gran avance en la actulización del curso de Prevención de Violencias Digitales-PVD, teniendo en cuenta que este proceso se inición desde el 2025 en el marco de la alianza estratégica con la Fundación Karisma. Por otro lado se han realizado las siguientes gestiones con aliados estratégicos, con el fin de iniciar la difinición de otros espacios para el fortalecimiento de las habilidades digitales de las mujeres, los cuales tienen como eje central la innovación pública y la tecnología: 1. Alianza CCB: Se realizará un espacio de circuito y panel con mujeres emprendedoras, en el cual el eje central de converzación será el uso de la IA para fortalecer emprndimientos. Este espacio se llevará a cabo en el Centro de Innovación de CCB y Ecopetrol. 2. Alianza con IDARTES-Estrategfia de arte ciencia y tecnología: se realizará un laboratorio creativo, el cual tendrá como eje central el intercambio intergeneracional y la creación de viodejuegos. El producto de este laboratorio será presentado en el amrco del SOFA. 3. Alianza con la Cinemateca Distrital: Se iniciaron acercamientos para realizar un laboratorio audiovisual. El producto del laboratoría se circulará en el 8M 2027 de Idartes. | F43: Se avanzó en la definición de la temática de l curso nuevo, así como la estructura y el contenido de cada uno de los módulos. Por otro lado se tiene un avance en el curso de Prevención de Violencias Digitales, el cual fue priorizado para su actualización, en el marco de la alianza estratégica con Karisma. Se iniciaron gestiones para la definición de 3 espacios de innovación para el fortalecimiento de las Habilidades Digitales de las mujeres. | H43: No se presentaron retrasos | I43: La identificación participativa de las necesidades de formación permitió consolidar insumos estratégicos para fortalecer los procesos pedagógicos dirigidos a las mujeres en los territorios, a partir de sus intereses reales y contextuales. Este ejercicio permitió la definición de la temática y la estructura del nuevo curso de inteligencia artificial, junto con la actualización del curso de Prevención de Violencias Digitales, lo cual permite fortalecer la pertinencia, calidad y actualidad de la oferta formativa de los Centros de Inclusión Digital. La articulación con aliados estratégicos en campos como la innovación, las artes, la tecnología y el audiovisual amplía las oportunidades de aprendizaje, fomenta el intercambio de saberes y contribuye al desarrollo integral de habilidades digitales de las mujeres, con enfoque de género y diferencial
A44: ABRIL | B44: PROGRAMACIÓN | C44: EJECUCIÓN | D44: AVANCES Y LOGROS MENSUAL (2.000 CARACTERES) | F44: AVANCES Y LOGROS ACUMULADO (2.000 CARACTERES) | H44: RETRASOS Y ALTERNATIVAS DE SOLUCIÓN (1.000 CARACTERES) | I44: BENEFICIOS
B45: 0.08 | C45: 0.08 | D45: Durante el mes de abril se avanzó de manera significativa en el ajuste y consolidación del curso nuevo de Inteligencia Artificial, adecuando su estructura, módulos, actividades prácticas y evaluaciones para responder a las necesidades, capacidades y contextos de las mujeres participantes. Paralelamente, se desarrolló la actualización del curso de Prevención de Violencias Digitales, redefiniendo sus contenidos, fortaleciendo el enfoque de derechos, seguridad y autocuidado digital, e iniciando la producción gráfica de los primeros módulos, en articulación con la línea comunicativa institucional. Estos avances fortalecen la calidad, pertinencia y actualidad de la oferta formativa de los Centros de Inclusión Digital. | F45: Se avanzó en la definición de la estructura del curso nuevo sobre IA, y la guía de contenidos. Por otro lado se inició la graficación de los primeros módulos del curso Prevención de Violencias Digitales, el cual fue priorizado para su actualización, en el marco de la alianza estratégica con Karisma. Se iniciaron gestiones para la definición de 3 espacios de innovación para el fortalecimiento de las Habilidades Digitales de las mujeres. | H45: No se presentaron retrasos | I45: Los avances desarrollados durante el mes de abril aportaron beneficios estratégicos al fortalecimiento de la oferta formativa de los Centros de Inclusión Digital, al consolidar contenidos pedagógicos actualizados, pertinentes y alineados con el enfoque de género y diferencial. El ajuste integral del curso de Inteligencia Artificial permitió contar con una estructura clara, progresiva y aplicada, que facilita la apropiación de conocimientos y habilidades digitales por parte de las mujeres, promoviendo un uso consciente, práctico y ético de estas tecnologías en su vida cotidiana, educativa y laboral. Asimismo, la actualización del curso de Prevención de Violencias Digitales contribuyó a fortalecer los procesos de sensibilización, identificación y prevención de riesgos en entornos digitales, brindando herramientas concretas para el autocuidado, la protección de la información y el ejercicio pleno de los derechos de las mujeres en escenarios digitales. Estos ajustes mejoran la calidad pedagógica de los contenidos, incrementan su vigencia frente a los riesgos tecnológicos emergentes y fortalecen la capacidad institucional para responder a las necesidades reales de las mujeres en los territorios. En conjunto, estos avances permiten consolidar una oferta formativa más robusta, coherente y articulada, que amplía las oportunidades de aprendizaje, fortalece la autonomía digital de las mujeres y aporta al cierre de brechas de acceso, uso y apropiación de las tecnologías, en concordancia con los objetivos del proyecto de inversión y la Meta PDD.
A46: MAYO | B46: PROGRAMACIÓN | C46: EJECUCIÓN | D46: AVANCES Y LOGROS MENSUAL (2.000 CARACTERES) | F46: AVANCES Y LOGROS ACUMULADO (2.000 CARACTERES) | H46: RETRASOS Y ALTERNATIVAS DE SOLUCIÓN (1.000 CARACTERES) | I46: BENEFICIOS
B47: 0.08 | C47: 0.08 | D47: En mayo se avanzó en la mejora y consolidación de dos procesos formativos: un nuevo curso de inteligencia artificial y el ajuste del curso de Prevención de Violencias Digitales. En el primero, se incorporaron observaciones para optimizar los contenidos, simplificar los módulos y hacerlos más claros y accesibles, además de establecer lineamientos pedagógicos que priorizan el lenguaje inclusivo, los ejemplos prácticos y la integración del enfoque de género. Se desarrollaron los guiones de los dos primeros módulos, abordando tanto los fundamentos de la IA como el uso crítico de herramientas generativas. En paralelo, se ajustaron los contenidos y estructura del curso de prevención de violencias digitales, se fortalecieron varios módulos y se produjeron recursos audiovisuales prácticos. También se diseñó un nuevo módulo sobre canales de denuncia. Finalmente, se avanzó en la articulación con la Cámara de Comercio de Bogotá para la realización de un BootCamp dirigido a emprendedoras, definiendo su metodología, contenidos y logística, con énfasis en el uso seguro y estratégico de la tecnología | F47: Se avanzó en la definición de la construcción de guíones instrucciones del curso IA. Por otro lado se inició la graficación de los primeros módulos del curso Prevención de Violencias Digitales, el cual fue priorizado para su actualización, en el marco de la alianza estratégica con Karisma. Se realizó una reunión de definición del Boot Camp que se llevará a cabo el 22 de julio en el Centro de Innovación de la Cámara de Comercio de Bogotá. | H47: No se presentaron retrasos | I47: Durante el mes de mayo, los avances en la construcción y ajuste de los cursos permitieron fortalecer de manera significativa la calidad pedagógica, la claridad de los contenidos y la pertinencia de las experiencias de aprendizaje. La incorporación de observaciones del equipo y lineamientos metodológicos contribuyó a simplificar y organizar mejor los módulos, asegurar el uso de un lenguaje claro, inclusivo y accesible, e integrar ejemplos prácticos desde el inicio, lo que facilita la comprensión y apropiación de los temas por parte de las participantes. Asimismo, la estructuración coherente de los contenidos, la mejora en las instrucciones de actividades y la incorporación de recursos audiovisuales e interactivos potencian procesos formativos más dinámicos, comprensibles y orientados a la aplicación en la vida cotidiana. Adicionalmente, la consolidación de contenidos clave —como los fundamentos de la inteligencia artificial, el uso crítico de herramientas generativas y la prevención de violencias digitales—, junto con el desarrollo de materiales audiovisuales prácticos y la inclusión del enfoque de género de manera transversal, fortalece las capacidades de las mujeres para el uso seguro, informado y autónomo de las tecnologías digitales. La articulación interinstitucional y la planificación del BootCamp, por su parte, amplían el alcance de la estrategia formativa, promoviendo espacios de aprendizaje colaborativo y aplicado que contribuyen al fortalecimiento de emprendimientos, la generación de redes y la apropiación tecnológica en contextos reales.
A48: JUNIO | B48: PROGRAMACIÓN | C48: EJECUCIÓN | D48: AVANCES Y LOGROS MENSUAL (2.000 CARACTERES) | F48: AVANCES Y LOGROS ACUMULADO (2.000 CARACTERES) | H48: RETRASOS Y ALTERNATIVAS DE SOLUCIÓN (1.000 CARACTERES) | I48: BENEFICIOS
B49: 0.08 | C49: 0.08 | D49: Durante junio se avanzó en la estructuración del curso de Inteligencia Artificial, reorganizando sus contenidos en tres módulos: Entendiendo la inteligencia artificial, enfocado en conceptos básicos, historia, tipos de IA y una mirada crítica sobre sesgos, ética y sostenibilidad; IA generativa de propósitos generales, centrado en Prompt Engineering y el uso práctico de herramientas como Meta AI, ChatGPT y Google Gemini; e IA generativa de diseño y productividad, orientado al uso de Claude, NotebookLM y Microsoft Designer. Con base en esta propuesta se ajustó el guion instruccional del primer módulo, se avanzó en la construcción del segundo y se remitió la nueva versión a un aliado experto para su valoración y recomendaciones. Paralelamente, se continuó con el diseño del curso de Prevención de Violencias Digitales (PVD) en Adobe Illustrator. Se entregaron los diseños de los módulos generales y de los módulos 1 al 4, además de las piezas gráficas para los contenidos paso a paso de los módulos 4 y 6. Posteriormente, el equipo realizó la revisión integral de los materiales, incorporó los ajustes requeridos y entregó los módulos aprobados al administrador Moodle para su virtualización. Asimismo, se realizaron ajustes metodológicos al módulo 5, dando inicio a su fase de diseño una vez fueron aprobados. | F49: Se avanzó en la definición de la construcción de guíones instrucciones del curso IA, con el ajuste a 3 módulos. Por otro lado se cuenta con la graficación de los 5 de los 7 módulos del curso Prevención de Violencias Digitales. El próximo 22 de julio se desarrollará el BootCamp “Mujeres, Inteligencia Artificial y Emprendimiento”, en articulación con la Cámara de Comercio de Bogotá, en las instalaciones del Centro de Innovación Tecnológica de la Cámara de Comercio de Bogotá. | H49: No se presentaron retrasos | I49: Estos desarrollos aportarán al cierre de brechas digitales de género al ofrecer formación accesible sobre tecnologías emergentes, promoviendo una comprensión crítica de temas como los sesgos algorítmicos, la inclusión en el entrenamiento de modelos de IA y el uso responsable de estas herramientas. Asimismo, la incorporación de contenidos sobre Prompt Engineering y plataformas como Meta AI, ChatGPT, Google Gemini, Claude, NotebookLM y Microsoft Designer permitirá que las participantes adquieran competencias relevantes para desenvolverse en entornos digitales cada vez más mediados por la inteligencia artificial. De manera complementaria, el avance en el diseño y virtualización del curso de Prevención de Violencias Digitales contribuirá a fortalecer las capacidades de las mujeres para reconocer, prevenir y afrontar riesgos en los entornos digitales. La consolidación de los módulos, la producción de recursos gráficos y la preparación de los contenidos para su implementación en Moodle facilitarán el acceso a procesos de formación virtual más dinámicos, comprensibles y centrados en las necesidades de las participantes. Estos insumos también se articulan con el desarrollo del BootCamp “Mujeres, Inteligencia Artificial y Emprendimiento”, que beneficiará a 80 mujeres emprendedoras mediante una experiencia práctica de aproximación a la inteligencia artificial. Los contenidos desarrollados para el curso de IA servirán como base conceptual para fortalecer las capacidades de las participantes en el uso de herramientas digitales orientadas al posicionamiento de sus negocios, la creación de contenido, la gestión de redes sociales y la optimización de procesos productivos. De igual manera, los conocimientos asociados a prevención de violencias digitales y ciberseguridad contribuirán a promover una participación más segura y confiable en los entornos digitales.
A50: JULIO | B50: PROGRAMACIÓN | C50: EJECUCIÓN | D50: AVANCES Y LOGROS MENSUAL (2.000 CARACTERES) | F50: AVANCES Y LOGROS ACUMULADO (2.000 CARACTERES) | H50: RETRASOS Y ALTERNATIVAS DE SOLUCIÓN (1.000 CARACTERES) | I50: BENEFICIOS
B51: 0.08 | C51: 0.08 | D51: Durante el mes de julio se avanzó en el desarrollo, diseño e implementación de contenidos formativos virtuales. Se finalizó el guion instruccional del módulo 2 del curso IA Generativa para Propósitos Generales, incorporando contenidos sobre ChatGPT y Google Gemini, sus funcionalidades, interfaces, formas de acceso y aplicaciones prácticas para tareas educativas, organización de actividades, búsquedas y generación de contenido. Asimismo, se completó el diseño gráfico de los módulos 6 y 7 del curso, incluyendo la atención de observaciones, ajustes en los archivos de trabajo y la aprobación para su virtualización en Moodle. Adicionalmente, se realizó la implementación en la plataforma Moodle de los cursos Prevención de Violencias Digitales con Enfoque de Género y Mujeres Emprendedoras, configurando y poniendo en funcionamiento los módulos, actividades, recursos y funcionalidades necesarias para garantizar su operación, seguimiento y certificación de las participantes dentro del entorno virtual de aprendizaje de la Secretaría Distrital de la Mujer. | F51: Se avanzó en la definición de la construcción de guíones instrucciones del curso IA, con el ajuste a 3 módulos. Por otro lado se cuenta con la graficación de los 7 módulos del curso Prevención de Violencias Digitales. El 22 de julio se desarrolló el BootCamp “Mujeres, Inteligencia Artificial y Emprendimiento”, en articulación con la Cámara de Comercio de Bogotá, en las instalaciones del Centro de Innovación Tecnológica de la Cámara de Comercio de Bogotá. | H51: No se presentaron retrasos | I51: Estas actividades fortalecen la oferta de formación virtual de la Secretaría Distrital de la Mujer al disponer de contenidos actualizados sobre inteligencia artificial, emprendimiento y prevención de violencias digitales, facilitando el acceso de las mujeres a procesos de aprendizaje pertinentes y de calidad. La consolidación de guiones, diseños gráficos, guías metodológicas e implementaciones en Moodle contribuye a mejorar la experiencia educativa, garantizar la coherencia pedagógica de los cursos y optimizar los procesos de acompañamiento y certificación. Asimismo, la incorporación de enfoques metodológicos participativos y críticos favorece el desarrollo de capacidades digitales, la autonomía tecnológica, la apropiación segura de herramientas digitales y el fortalecimiento de habilidades para la participación, el emprendimiento y el ejercicio de derechos en entornos digitales.
A52: AGOSTO | B52: PROGRAMACIÓN | C52: EJECUCIÓN | D52: AVANCES Y LOGROS MENSUAL (2.000 CARACTERES) | F52: AVANCES Y LOGROS ACUMULADO (2.000 CARACTERES) | H52: RETRASOS Y ALTERNATIVAS DE SOLUCIÓN (1.000 CARACTERES) | I52: BENEFICIOS
...

Sheet ACTIVIDAD_2
B1: SECRETARÍA DISTRITAL DE LA MUJER | M1: Código: DE-FO-5
B2: DIRECCIONAMIENTO ESTRATEGICO | M2: Versión: 14
B3: PROGRAMACIÓN, ACTUALIZACIÓN Y SEGUIMIENTO PLAN DE ACCIÓN DE PROYECTOS DE INVERSIÓN | M3: Fecha de Emisión: 28/04/2025
B4: ACTIVIDADES | M4: Página 2 de 7
A6: PROYECTO DE INVERSIÓN | B6: 8190 - Desarrollo de capacidades digitales para potenciar la inclusión social de las mujeres en zonas urbanas y rurales en Bogotá D.C. | L6: BPIN | M6: 2024110010313
A8: PERIODO REPORTADO | B8: Enero | D8: Febrero | F8: Marzo | H8: Abril | J8: TIPO DE REPORTE | L8: FORMULACION
B9: Mayo | D9: Junio | F9: Julio | H9: Agosto | I9: X | L9: ACTUALIZACION
B10: Septiembre | D10: Octubre | F10: Noviembre | H10: Diciembre | L10: SEGUIMIENTO | M10: X
A12: ACTIVIDAD DEL PROYECTO | B12: Implementar 7 cursos con enfoque de género y diferencial para el desarrollo de capacidades digitales de las mujeres en zonas rurales de la ciudad
A16: PRODUCTO MGA | B16: Servicio de promoción a la participación ciudadana | G16: INDICADOR ACTIVIDAD | I16: Numero de cursos con enfoque de género y diferencial para el desarrollo de capacidades digitales de las mujeres en zonas rurales de la ciudad implementados
A18: OBJETIVO ESTRATÉGICO | B18: 3. Bogotá confia en su potencial | F18: PROGRAMA | G18: 3.17. Formación para el trabajo y acceso a oportunidades educativas | J18: META PDD | K18: Formar 27.000 mujeres en habilidades digitales a través de los Centros de Inclusión Digital – CID, en zonas rurales y urbanas.
A21: EJECUCIÓN PRESUPUESTAL DEL PROYECTO
A22: PRESUPUESTO ASIGNADO EN LA VIGENCIA ACTUAL (en pesos, sin decimales)
B23: Enero | C23: Febrero | D23: Marzo | E23: Abril | F23: Mayo | G23: Junio | H23: Julio | I23: Agosto | J23: Septiembre | K23: Octubre | L23: Noviembre | M23: Diciembre | N23: Total | O23: Porcentaje de ejecución
A24: PROGRAMACION DE COMPROMISOS | B24: 617083000 | C24: 0 | D24: 0 | E24: 0 | F24: 0 | G24: 0 | H24: 4047797 | I24: -337312 | J24: 0 | K24: 0 | L24: 0 | M24: 0 | N24: =SUM(B24:M24) -> 620793485 | O24: 1 | Q24: 621130797 | S24: =Q24-N24 -> 337312
A25: COMPROMISOS | B25: 610259000 | C25: 0 | D25: -660000 | E25: -696667 | F25: 104370 | G25: 5114630 | H25: 0 | I25: 0 | J25: 0 | K25: 0 | L25: 0 | M25: 0 | N25: =SUM(B25:M25) -> 614121333 | O25: =+(B25+C25+D25+E25+F25+G25+H25+I25+J25+K25+L25+M25)/N24 -> 0.98925222
A26: GIROS | B26: 0 | C26: 8618871 | D26: 53576003 | E26: 53682668 | F26: 52767667 | G26: 53842667 | H26: 54057667 | I26: 54769334 | J26: 0 | K26: 0 | L26: 0 | M26: 0 | N26: =SUM(B26:M26) -> 331314877 | O26: =+(B26+C26+D26+E26+F26+G26+H26+I26+J26+K26+L26+M26)/N25 -> 0.53949417
A27: PROGRAMACIÓN RESERVAS | B27: 0 | C27: 32325861 | D27: 18352962 | E27: 12337672 | F27: 0 | G27: 0 | H27: 0 | I27: 0 | J27: 0 | K27: 0 | L27: 0 | M27: 0 | N27: =SUM(B27:M27) -> 63016495 | O27: 1
A28: LIBERACION DE RESERVAS | B28: 0 | C28: 0 | D28: 0 | E28: 0 | F28: 0 | G28: 0 | H28: 0 | I28: 0 | J28: 0 | K28: 0 | L28: 0 | M28: 0 | N28: =SUM(B28:M28) -> 0 | O28: =N28/N27 -> 0
A29: GIROS RESERVAS | B29: 2142000 | C29: 21545533 | D29: 7518918 | E29: 0 | F29: 7352962 | G29: 20228685 | H29: 0 | I29: 0 | J29: 0 | K29: 0 | L29: 0 | M29: 0 | N29: =SUM(B29:M29) -> 58788098 | O29: =N29/N27 -> 0.93290016
A33: REPORTE ACTIVIDADES VIGENCIA (Ejecución vigencia)
A34: DESCRIPCION DE LA ACTIVIDAD | B34: =+B12 -> Implementar 7 cursos con enfoque de género y diferencial para el desarrollo de capacidades digitales de las mujeres en zonas rurales de la ciudad
A35: ANUALIZACIÓN DE LA ACTIVIDAD | B35: 2024 | C35: 2025 | D35: 2026 | E35: 2027 | F35: TOTAL PDD | G35: TIPO DE ANUALIZACIÓN | H35: Suma
B36: 1 | C36: 2 | D36: 2 | E36: 2 | F36: =B36+C36+D36+E36 -> 7
A37: PONDERACIÓN ACTIVIDAD | B37: 0.3 | D37: DESCRIPCIÓN CUALITATIVA DEL AVANCE POR ACTIVIDAD
A38: ENERO | B38: PROGRAMACIÓN | C38: EJECUCIÓN | D38: AVANCES Y LOGROS MENSUAL (2.000 CARACTERES) | F38: AVANCES Y LOGROS ACUMULADO (2.000 CARACTERES) | H38: RETRASOS Y ALTERNATIVAS DE SOLUCIÓN (1.000 CARACTERES) | I38: BENEFICIOS
B39: 0 | C39: 0 | D39: No se presentan avances de acuerdo con la programación | F39: No se presentan avances de acuerdo con la programación
A40: FEBRERO | B40: PROGRAMACIÓN | C40: EJECUCIÓN | D40: AVANCES Y LOGROS MENSUAL (2.000 CARACTERES) | F40: AVANCES Y LOGROS ACUMULADO (2.000 CARACTERES) | H40: RETRASOS Y ALTERNATIVAS DE SOLUCIÓN (1.000 CARACTERES) | I40: BENEFICIOS
B41: 0.2 | C41: 0.2 | D41: En el mes de febrero se realizó una jornada de socialización para realizar procesos de formación en las zonas rurales de las siguientes localidades: 1. Localidad de Usme y Ciudad Bolivar: De esta jornada de socialización, en marzo se inicia un proceso de formación en la vereda Santa Bárbara de Ciudad Bolivar, y talleres de refuerzo en otras veredas como Santa Rosa de Ciudad Bolivar | F41: Se realiza una primera jornada de socialización en las localidades de Usme y Ciudada Bolivar, y se realizó un primer acercamiento con el equipo rural de la Dirección de Enfoque Diferencial. | H41: No se presentan retrasos | I41: Las acciones de convocatoria adelantadas para fortalecer las capacidades digitales de las mujeres rurales generaron beneficios clave al abrir rutas de acceso más directas, participativas y coordinadas a los procesos formativos de los Centros de Inclusión Digital. La articulación con las Direcciones de Enfoque Diferencial y de Territorialización permitió alinear esfuerzos institucionales, reconocer experiencias territoriales y planificar intervenciones conjuntas que facilitan la llegada a grupos históricamente excluidos. Asimismo, la jornada de difusión en las zonas rurales de Usme y veredas aledañas de Ciudad Bolívar posibilitó un diálogo directo con las mujeres, la identificación de sus intereses y la concertación de nuevos grupos de formación para marzo, fortaleciendo así la pertinencia, la cobertura y el impacto comunitario del curso.
A42: MARZO | B42: PROGRAMACIÓN | C42: EJECUCIÓN | D42: AVANCES Y LOGROS MENSUAL (2.000 CARACTERES) | F42: AVANCES Y LOGROS ACUMULADO (2.000 CARACTERES) | H42: RETRASOS Y ALTERNATIVAS DE SOLUCIÓN (1.000 CARACTERES) | I42: BENEFICIOS
B43: 0.2 | C43: 0.2 | D43: En el mes de marzo se adelantaron las siguientes acciones: 1. Socialización de cursos en la vereda de Santa Rosa de Ciudad Bolivar 2. 1er ciclo de formación rural: se realizaron dos procesos de formación en zona rural de ciudad bolivar (veredas SantaRosa y Santa Bárbara) con un total de 14 mujeres participantes. | F43: Se realizaron dos jornadas de socialización en las localidades de Usme y Ciudad Bolivar. Se realiza un primer ciclo de formación rural con la participación de 14 mujeres campesinas en la localidad de Ciudad Bolivar, veredas Santa Rosa y Santa Bárbara. | H43: No se presentan retrasos | I43: Las acciones de socialización, convocatoria e implementación de cursos en zonas rurales permitieron fortalecer el acceso efectivo de las mujeres rurales y campesinas a procesos de formación en capacidades digitales, mediante estrategias participativas y territorialmente pertinentes. La articulación interinstitucional con las Direcciones de Enfoque Diferencial y de Territorialización facilitó el reconocimiento de dinámicas locales, la identificación de intereses formativos y la concertación de grupos de aprendizaje, mejorando la cobertura y la pertinencia de la oferta de los Centros de Inclusión Digital.
A44: ABRIL | B44: PROGRAMACIÓN | C44: EJECUCIÓN | D44: AVANCES Y LOGROS MENSUAL (2.000 CARACTERES) | F44: AVANCES Y LOGROS ACUMULADO (2.000 CARACTERES) | H44: RETRASOS Y ALTERNATIVAS DE SOLUCIÓN (1.000 CARACTERES) | I44: BENEFICIOS
B45: 0.2 | C45: 0.2 | D45: En el mes de abril se realizó la planeación para la reactivación de los procesos de formación en zona rural del segundo semestre: 1. Se priorizará un proceso de formación en una vereda de la localidad de Sumapaz con el curso de Mujeres Emprendedoras en la Era Digital. 2. Se empezará a ajustar el curso de Prevención de Violencias Digitales, con el fin de sacar talleres cortos que permitan ser rotados en solo 1 sesión en las zonas rurales 3. Se intentará abrir espacios en la zona rural de la localidad de suba. | F45: Se realizaron dos jornadas de socialización en las localidades de Usme y Ciudad Bolivar. Se realizó un primer ciclo de formación rural con la participación de 14 mujeres campesinas en la localidad de Ciudad Bolivar, veredas Santa Rosa y Santa Bárbara. Para el segundo semestre se priorizará Sumapaz y se iniciarán gestiones para llegar a la localidad de Suba. Se iniciarán una serie de talleres del curso Prevensión de Violencias Digitales,los cuales permiten mayor rotación en la zona. | H45: No se presentan retrasos | I45: La implementación del curso Mujeres Emprendedoras en la Era Digital favorece el desarrollo de habilidades prácticas orientadas a la autonomía económica, ya que permite a las participantes fortalecer sus conocimientos digitales con un enfoque aplicado al emprendimiento, lo que puede traducirse en mejores oportunidades para la generación de ingresos y el fortalecimiento de iniciativas productivas locales en sus comunidades. Por otra parte, la adaptación del curso de Prevención de Violencias Digitales a formatos de talleres cortos de una sola sesión representa un avance en la flexibilización metodológica, facilitando su implementación en diferentes veredas y permitiendo una mayor cobertura en menor tiempo. Esta estrategia no solo optimiza los recursos, sino que también responde a las dinámicas y limitaciones de acceso propias de los contextos rurales.
A46: MAYO | B46: PROGRAMACIÓN | C46: EJECUCIÓN | D46: AVANCES Y LOGROS MENSUAL (2.000 CARACTERES) | F46: AVANCES Y LOGROS ACUMULADO (2.000 CARACTERES) | H46: RETRASOS Y ALTERNATIVAS DE SOLUCIÓN (1.000 CARACTERES) | I46: BENEFICIOS
B47: 0.2 | C47: 0.2 | D47: En el mes de mayo se realizaron acercamientos con el equipo territorial rural de Chapinero con el fin de consolidar un posible espacio de formación en la vereda el Verjón de la localidad. Es de precisar que hasta que no se adelante el proceso de contratación para la bolsa de transporte, no es posible adelantar socializaciones en territorio. | F47: Se realizaron dos jornadas de socialización en las localidades de Usme y Ciudad Bolivar. Se realizó un primer ciclo de formación rural con la participación de 14 mujeres campesinas en la localidad de Ciudad Bolivar, veredas Santa Rosa y Santa Bárbara. Para el segundo semestre se priorizará Sumapaz y se iniciarán gestiones para llegar a la localidad de Suba y Chapinero. Se iniciarán una serie de talleres del curso Prevensión de Violencias Digitales,los cuales permiten mayor rotación en la zona. | H47: No se presentan retrasos | I47: Los avances realizados durante el mes de mayo fortalecen la proyección territorial de la estrategia, especialmente en contextos rurales, al iniciar acercamientos con el equipo territorial de Chapinero para ampliar la cobertura hacia la vereda El Verjón. Estas gestiones sientan las bases para una expansión planificada y sostenida de los procesos formativos, permitiendo identificar condiciones clave para la implementación y articulación en territorio, reconociendo las limitaciones logísticas que actualmente dependen de la contratación de transporte.
A48: JUNIO | B48: PROGRAMACIÓN | C48: EJECUCIÓN | D48: AVANCES Y LOGROS MENSUAL (2.000 CARACTERES) | F48: AVANCES Y LOGROS ACUMULADO (2.000 CARACTERES) | H48: RETRASOS Y ALTERNATIVAS DE SOLUCIÓN (1.000 CARACTERES) | I48: BENEFICIOS
B49: 0.2 | C49: 0.2 | D49: En el mes de junio se realizaron acercamientos con el equipo territorial rural con quienes se tienen concertados procesos de formación en la localidad de Sumapaz, y en dos veredas de la localidad de Usme. Es de precisar que hasta que no se adelante el proceso de contratación para la bolsa de transporte, no es posible adelantar socializaciones en territorio. | F49: Se realizaron dos jornadas de socialización en las localidades de Usme y Ciudad Bolivar. Se realizó un primer ciclo de formación rural con la participación de 14 mujeres campesinas en la localidad de Ciudad Bolivar, veredas Santa Rosa y Santa Bárbara. Para el segundo semestre se adelantaron concertaciones para relizar los ciclos de formación en la localidad de Sumapaz y Usme. | H49: No se presentan retrasos | I49: Los avances realizados durante el mes de junio fortalecen la implementación de la estrategia de inclusión digital en las zonas rurales de Bogotá, mediante la articulación institucional y la concertación de procesos formativos que responden a las necesidades de las mujeres rurales. Los acercamientos realizados con el equipo territorial rural permitieron coordinar acciones para el desarrollo de ciclos de formación en la localidad de Sumapaz y en dos veredas de la localidad de Usme, generando las condiciones necesarias para ampliar la cobertura de la oferta institucional y garantizar una intervención más pertinente en los territorios.
A50: JULIO | B50: PROGRAMACIÓN | C50: EJECUCIÓN | D50: AVANCES Y LOGROS MENSUAL (2.000 CARACTERES) | F50: AVANCES Y LOGROS ACUMULADO (2.000 CARACTERES) | H50: RETRASOS Y ALTERNATIVAS DE SOLUCIÓN (1.000 CARACTERES) | I50: BENEFICIOS
B51: 0.2 | C51: 0.2 | D51: Durante el período reportado se inició el proceso de articulación territorial para la convocatoria de mujeres de zonas rurales interesadas en participar en el curso de desarrollo de capacidades digitales. Para ello, se sostuvo una reunión con la Rol Comunitaria de Territorialización de la localidad de Usme, en la que se socializaron las acciones desarrolladas por los Centros de Inclusión Digital en territorio rural y se identificaron oportunidades de trabajo conjunto con grupos de mujeres de zonas rurales y urbano-rurales. Es importante señalar que durante el mes reportado no fue posible realizar socializaciones presenciales en las zonas rurales, pese a la solicitud de la comunidad, debido a que estas actividades dependen de la contratación del servicio de transporte institucional, proceso que al momento del reporte continúa en etapa precontractual. | F51: Se realizaron dos jornadas de socialización en las localidades de Usme y Ciudad Bolivar. Se realizó un primer ciclo de formación rural con la participación de 14 mujeres campesinas en la localidad de Ciudad Bolivar, veredas Santa Rosa y Santa Bárbara. Para el segundo semestre se adelantó una concertación en la localidad de Usme | H51: No se presentan retrasos | I51: La articulación inicial con los actores territoriales de la localidad de Usme fortalece la pertinencia y el alcance de la estrategia de formación en capacidades digitales, al permitir identificar de manera más precisa las necesidades, características y condiciones de participación de las mujeres rurales y urbano-rurales. Esta coordinación facilita la planeación de acciones de difusión, inscripción y formación ajustadas al contexto territorial, optimizando el uso de los recursos institucionales y promoviendo una mayor cobertura de la oferta formativa. Asimismo, las gestiones adelantadas con entidades y actores locales contribuyen a reducir barreras de acceso, especialmente aquellas relacionadas con la movilidad y la dispersión geográfica, favoreciendo que más mujeres rurales puedan acceder a procesos de fortalecimiento de habilidades digitales que impulsen su autonomía, inclusión digital y participación en oportunidades educativas y económicas.
A52: AGOSTO | B52: PROGRAMACIÓN | C52: EJECUCIÓN | D52: AVANCES Y LOGROS MENSUAL (2.000 CARACTERES) | F52: AVANCES Y LOGROS ACUMULADO (2.000 CARACTERES) | H52: RETRASOS Y ALTERNATIVAS DE SOLUCIÓN (1.000 CARACTERES) | I52: BENEFICIOS
...

Sheet ACTIVIDAD_3
B1: SECRETARÍA DISTRITAL DE LA MUJER | M1: Código: DE-FO-5
B2: DIRECCIONAMIENTO ESTRATEGICO | M2: Versión: 14
B3: PROGRAMACIÓN, ACTUALIZACIÓN Y SEGUIMIENTO PLAN DE ACCIÓN DE PROYECTOS DE INVERSIÓN | M3: Fecha de Emisión: 28/04/2025
B4: ACTIVIDADES | M4: Página 2 de 7
A6: PROYECTO DE INVERSIÓN | B6: 8190 - Desarrollo de capacidades digitales para potenciar la inclusión social de las mujeres en zonas urbanas y rurales en Bogotá D.C. | L6: BPIN | M6: 2024110010313
A8: PERIODO REPORTADO | B8: Enero | D8: Febrero | F8: Marzo | H8: Abril | J8: TIPO DE REPORTE | L8: FORMULACION
B9: Mayo | D9: Junio | F9: Julio | H9: Agosto | I9: X | L9: ACTUALIZACION
B10: Septiembre | D10: Octubre | F10: Noviembre | H10: Diciembre | L10: SEGUIMIENTO | M10: X
A12: ACTIVIDAD DEL PROYECTO | B12: Ejecutar 1 estrategia para garantizar la operación tecnológica de los Centros de Inclusión Digital y sus aulas itinerantes
A16: PRODUCTO MGA | B16: Servicio de promoción de la garantía de derechos | G16: INDICADOR ACTIVIDAD | I16: Numero de estrategias ejecutadas para garantizar la operación tecnológica de los Centros de Inclusión Digital y sus aulas itinerantes
A18: OBJETIVO ESTRATÉGICO | B18: 3. Bogotá confia en su potencial | F18: PROGRAMA | G18: 3.17. Formación para el trabajo y acceso a oportunidades educativas | J18: META PDD | K18: Formar 27.000 mujeres en habilidades digitales a través de los Centros de Inclusión Digital – CID, en zonas rurales y urbanas.
A21: EJECUCIÓN PRESUPUESTAL DEL PROYECTO
A22: PRESUPUESTO ASIGNADO EN LA VIGENCIA ACTUAL (en pesos, sin decimales)
B23: Enero | C23: Febrero | D23: Marzo | E23: Abril | F23: Mayo | G23: Junio | H23: Julio | I23: Agosto | J23: Septiembre | K23: Octubre | L23: Noviembre | M23: Diciembre | N23: Total | O23: Porcentaje de ejecución
A24: PROGRAMACION DE COMPROMISOS | B24: 603014000 | C24: 8950000 | D24: 9000000 | E24: 0 | F24: 105514000 | G24: 0 | H24: -24595594 | I24: 674624 | J24: 110936000 | K24: 0 | L24: 0 | M24: 0 | N24: =SUM(B24:M24) -> 813493030 | O24: 1 | Q24: 812818406 | S24: =Q24-N24 -> -674624
A25: COMPROMISOS | B25: 591874000 | C25: 6636135 | D25: -880000 | E25: 85448005 | F25: 0 | G25: 0 | H25: 0 | I25: 0 | J25: 0 | K25: 0 | L25: 0 | M25: 0 | N25: =SUM(B25:M25) -> 683078140 | O25: =+(B25+C25+D25+E25+F25+G25+H25+I25+J25+K25+L25+M25)/N24 -> 0.8396853
A26: GIROS | B26: 0 | C26: 41813688 | D26: 48864185 | E26: 53288365 | F26: 56231334 | G26: 141754360 | H26: 57718045 | I26: 58071203 | J26: 0 | K26: 0 | L26: 0 | M26: 0 | N26: =SUM(B26:M26) -> 457741180 | O26: =+(B26+C26+D26+E26+F26+G26+H26+I26+J26+K26+L26+M26)/N25 -> 0.6701154
A27: PROGRAMACIÓN RESERVAS | B27: 0 | C27: =114577035-1650000 -> 112927035 | D27: 27805412 | E27: 40210063 | F27: 0 | G27: 0 | H27: 0 | I27: 0 | J27: 0 | K27: 0 | L27: 0 | M27: 0 | N27: =SUM(B27:M27) -> 180942510 | O27: 1
A28: LIBERACION DE RESERVAS | B28: 0 | C28: 0 | D28: 0 | E28: 0 | F28: 0 | G28: 38158766 | H28: 0 | I28: 0 | J28: 0 | K28: 0 | L28: 0 | M28: 0 | N28: =SUM(B28:M28) -> 38158766 | O28: =N28/N27 -> 0.2108889
A29: GIROS RESERVAS | B29: 106425867 | C29: 31284744 | D29: 1575019 | E29: 1492121 | F29: 0 | G29: 0 | H29: 266000 | I29: 0 | J29: 0 | K29: 0 | M29: 0 | N29: =SUM(B29:M29) -> 141043751 | O29: =(N29+N28)/N27 -> 0.99038372
A33: REPORTE ACTIVIDADES VIGENCIA (Ejecución vigencia)
A34: DESCRIPCION DE LA ACTIVIDAD | B34: =+B12 -> Ejecutar 1 estrategia para garantizar la operación tecnológica de los Centros de Inclusión Digital y sus aulas itinerantes
A35: ANUALIZACIÓN DE LA ACTIVIDAD | B35: 2024 | C35: 2025 | D35: 2026 | E35: 2027 | F35: TOTAL PDD | G35: TIPO DE ANUALIZACIÓN | H35: Constante
B36: 1 | C36: 1 | D36: 1 | E36: 1 | F36: 1
A37: PONDERACIÓN ACTIVIDAD | B37: 0.26 | D37: DESCRIPCIÓN CUALITATIVA DEL AVANCE POR ACTIVIDAD
A38: ENERO | B38: PROGRAMACIÓN | C38: EJECUCIÓN | D38: AVANCES Y LOGROS MENSUAL (2.000 CARACTERES) | F38: AVANCES Y LOGROS ACUMULADO (2.000 CARACTERES) | H38: RETRASOS Y ALTERNATIVAS DE SOLUCIÓN (1.000 CARACTERES) | I38: BENEFICIOS
B39: 0 | C39: 0 | D39: No se presentan avances de acuerdo con la programación | F39: No se presentan avances de acuerdo con la programación | H39: No aplica.
A40: FEBRERO | B40: PROGRAMACIÓN | C40: EJECUCIÓN | D40: AVANCES Y LOGROS MENSUAL (2.000 CARACTERES) | F40: AVANCES Y LOGROS ACUMULADO (2.000 CARACTERES) | H40: RETRASOS Y ALTERNATIVAS DE SOLUCIÓN (1.000 CARACTERES) | I40: BENEFICIOS
B41: 0.1 | C41: 0.1 | D41: En el marco de la operación de los Centros de Inclusión Digital durante el mes de febrero, se avanzó en la planeación de las adecuaciones físicas y técnicas de los espacios. Este proceso inició con el Centro de Inclusión Digital de Antonio Nariño, donde se realizaron las primeras revisiones y se definieron los requerimientos prioritarios para mejorar las condiciones de aprendizaje y de atención a las mujeres. De manera paralela, se construyó un cronograma de abordaje para las adecuaciones en los demás Centros de Inclusión Digital, en articulación con el equipo de la Dirección Administrativa y Financiera (DAF). Este cronograma permitirá una ejecución ordenada, gradual y acorde con las necesidades identificadas en cada territorio, garantizando que los CID continúen siendo espacios seguros, accesibles y adecuados para los procesos formativos. | F41: Se realizó la programación de las adecuaciones necesarias para el correcto funcionamiento de los CID, en la vigencia 2026, en articulación con la Dirección administrativa y financiera. El proceso de planificación y revisión de las adecuaciones físicas y técnicas de los Centros de Inclusión Digital permitió avanzar de manera estratégica en la creación de entornos más seguros, accesibles y favorables para el aprendizaje de las mujeres. Las revisiones iniciales en el CID de Antonio Nariño y la construcción de un cronograma articulado con la Dirección Administrativa y Financiera garantizan una intervención ordenada y coherente con las necesidades territoriales. | H41: No se presentaron retrasos | I41: Estos avances fortalecen la calidad de los procesos formativos, mejoran las condiciones de atención y contribuyen a que los Centros continúen siendo espacios confiables y adecuados para impulsar la autonomía y el desarrollo de las participantes.
A42: MARZO | B42: PROGRAMACIÓN | C42: EJECUCIÓN | D42: AVANCES Y LOGROS MENSUAL (2.000 CARACTERES) | F42: AVANCES Y LOGROS ACUMULADO (2.000 CARACTERES) | H42: RETRASOS Y ALTERNATIVAS DE SOLUCIÓN (1.000 CARACTERES) | I42: BENEFICIOS
B43: 0.1 | C43: 0.1 | D43: Para el mes de marzo, se continua con la actualización de la Estrategia de Operación de los Centros de Inclusión Digital (CID), elaborada a partir del seguimiento técnico que se viene realizando de manera continua. Esta actualización permite identificar de forma integral el estado actual de los CID, los avances alcanzados y las necesidades tecnológicas y estructurales existentes, incluyendo aspectos relacionados con la infraestructura física, la dotación tecnológica y las condiciones de movilidad y uso del espacio. Asimismo, el documento consolida información que orienta la toma de decisiones para el fortalecimiento progresivo de los CID, en coherencia con las acciones de seguimiento, mantenimiento, renovación y adecuación que se desarrollan a lo largo del cuatrienio. | F43: Se registra un avance sostenido en la implementación de la estrategia para garantizar la operación tecnológica de los Centros de Inclusión Digital, mediante acciones de planeación, seguimiento y actualización técnica. Se consolidó la actualización de la Estrategia de Operación de los CID, permitiendo contar con un diagnóstico integral del estado de la infraestructura física y la dotación tecnológica, así como identificar necesidades prioritarias para la toma de decisiones. Adicionalmente, se avanzó en la actualización y depuración del inventario tecnológico y en la atención de requerimientos locativos puntuales, contribuyendo a asegurar la continuidad operativa y el adecuado desarrollo de los procesos formativos. | H43: No se presentaron retrasos | I43: La planeación, actualización y seguimiento de la estrategia de operación tecnológica de los Centros de Inclusión Digital permitió avanzar en el fortalecimiento de entornos formativos más seguros, accesibles y adecuados para el aprendizaje de las mujeres. La revisión técnica de la infraestructura física y de la dotación tecnológica, junto con la actualización del inventario y la programación de adecuaciones locativas y tecnológicas en articulación con la Dirección Administrativa y Financiera, facilitó la identificación oportuna de necesidades prioritarias y la toma de decisiones informadas para el mantenimiento y mejora progresiva de los Centros. Estas acciones contribuyen a garantizar la continuidad de la operación de los CID, mejorar las condiciones de atención y uso de los espacios, y asegurar que los procesos de formación en capacidades digitales se desarrollen en ambientes adecuados, fortaleciendo la calidad del servicio y el acceso efectivo de las mujeres a las tecnologías, con enfoque de género y diferencial.
A44: ABRIL | B44: PROGRAMACIÓN | C44: EJECUCIÓN | D44: AVANCES Y LOGROS MENSUAL (2.000 CARACTERES) | F44: AVANCES Y LOGROS ACUMULADO (2.000 CARACTERES) | H44: RETRASOS Y ALTERNATIVAS DE SOLUCIÓN (1.000 CARACTERES) | I44: BENEFICIOS
B45: 0.1 | C45: 0.1 | D45: Durante el mes de abril se desarrollaron acciones orientadas a garantizar la continuidad y el seguimiento de la operación de los Centros de Inclusión Digital (CID). Estas incluyeron la remisión y el seguimiento de mesas de ayuda para la actualización de Office, la continuidad de las adecuaciones del CID de Engativá, realizando el levantamiento del muro e iniciando el proceso de pintura, así como el inicio de la revisión de equipos en los CID de Rafael Uribe Uribe y Puente Aranda, con el fin de gestionar los conceptos técnicos por daño y/o obsolescencia. | F45: Se registra un avance sostenido en la implementación de la estrategia para garantizar la operación tecnológica de los Centros de Inclusión Digital, mediante acciones de planeación, seguimiento y actualización técnica. Se consolidó la actualización de la Estrategia de Operación de los CID, permitiendo contar con un diagnóstico integral del estado de la infraestructura física y la dotación tecnológica, así como identificar necesidades prioritarias para la toma de decisiones. Adicionalmente, se avanzó en la solicitud de conceptos técnicos para la obselencia de equipos, actualización de software y en las adecuaciones de 1 CID para su correcto funcionamiento. | H45: No se presentaron retrasos | I45: Los avances en las adecuaciones del CID de Engativá, reflejados en el levantamiento del muro y el inicio del proceso de pintura, contribuyen a mejorar significativamente las condiciones físicas del espacio, ofreciendo entornos más seguros, dignos y adecuados. Estas mejoras inciden directamente en el bienestar de las mujeres participantes y en la calidad de los espacios destinados al aprendizaje y la inclusión digital. Por otra parte, el inicio de la revisión de equipos en los CID de Rafael Uribe Uribe y Puente Aranda permite optimizar la gestión tecnológica al identificar oportunamente aquellos dispositivos que presentan daños o condiciones de obsolescencia. Este proceso facilita la emisión de conceptos técnicos que orientan la toma de decisiones para su mantenimiento, reposición o actualización, contribuyendo a la sostenibilidad de la infraestructura tecnológica.
A46: MAYO | B46: PROGRAMACIÓN | C46: EJECUCIÓN | D46: AVANCES Y LOGROS MENSUAL (2.000 CARACTERES) | F46: AVANCES Y LOGROS ACUMULADO (2.000 CARACTERES) | H46: RETRASOS Y ALTERNATIVAS DE SOLUCIÓN (1.000 CARACTERES) | I46: BENEFICIOS
